BEGIN:VCALENDAR
VERSION:2.0
PRODID:-//Friends of Newtown Seniors - ECPv6.15.20//NONSGML v1.0//EN
CALSCALE:GREGORIAN
METHOD:PUBLISH
X-ORIGINAL-URL:https://friendsofnewtownseniors.org
X-WR-CALDESC:Events for Friends of Newtown Seniors
REFRESH-INTERVAL;VALUE=DURATION:PT1H
X-Robots-Tag:noindex
X-PUBLISHED-TTL:PT1H
BEGIN:VTIMEZONE
TZID:America/New_York
BEGIN:DAYLIGHT
TZOFFSETFROM:-0500
TZOFFSETTO:-0400
TZNAME:EDT
DTSTART:20240310T070000
END:DAYLIGHT
BEGIN:STANDARD
TZOFFSETFROM:-0400
TZOFFSETTO:-0500
TZNAME:EST
DTSTART:20241103T060000
END:STANDARD
BEGIN:DAYLIGHT
TZOFFSETFROM:-0500
TZOFFSETTO:-0400
TZNAME:EDT
DTSTART:20250309T070000
END:DAYLIGHT
BEGIN:STANDARD
TZOFFSETFROM:-0400
TZOFFSETTO:-0500
TZNAME:EST
DTSTART:20251102T060000
END:STANDARD
BEGIN:DAYLIGHT
TZOFFSETFROM:-0500
TZOFFSETTO:-0400
TZNAME:EDT
DTSTART:20260308T070000
END:DAYLIGHT
BEGIN:STANDARD
TZOFFSETFROM:-0400
TZOFFSETTO:-0500
TZNAME:EST
DTSTART:20261101T060000
END:STANDARD
END:VTIMEZONE
BEGIN:VEVENT
DTSTART;TZID=America/New_York:20250503T100000
DTEND;TZID=America/New_York:20250503T120000
DTSTAMP:20260423T125715
CREATED:20250416T211232Z
LAST-MODIFIED:20250416T211232Z
UID:2630-1746266400-1746273600@friendsofnewtownseniors.org
SUMMARY:Walk To Preserve 6 Commerce Road﻿
DESCRIPTION:6 Commerce Road is still being considered for economic development. This popular recreational treasure would be lost to hiking\, dog walking and horseback riding. Development could threaten Deep Brook and water bodies downstream. \nDirections: 6 Commerce Road is next to the Catherine Violet Hubbard Sanctuary. Take your first right off of Commerce Road – entrance is a dirt drive on the corner across from the Spectrum building. Follow signs for parking. \nThis family friendly event is sponsored by the Newtown Conservation Commission. The Catherine Violet Hubbard Sanctuary will offer tours\, and members of Candlewood Valley Trout Unlimited will be participating. \nSaturday\, May 3\n10 am – 12 pm.\nRain date is Sunday\, May 4.
URL:https://friendsofnewtownseniors.org/event/walk-to-preserve-6-commerce-road/
LOCATION:CT
CATEGORIES:Community
END:VEVENT
BEGIN:VEVENT
DTSTART;TZID=America/New_York:20250505T150000
DTEND;TZID=America/New_York:20250505T163000
DTSTAMP:20260423T125715
CREATED:20250430T201014Z
LAST-MODIFIED:20250430T201014Z
UID:2638-1746457200-1746462600@friendsofnewtownseniors.org
SUMMARY:Building Health Partnerships: How to Collaborate with Your Doctor for Better Care
DESCRIPTION:Dr. Aiswarya Thomas\, Executive Medical Director\, Danbury Hospital Internal Medicine Residency Adult Community Health Center\, and two medical residents will share information on how to prepare for your appointments\, ask the right questions\, and work with your doctor to make informed decisions about your care. Discover strategies for building a stronger\, more collaborative relationship with your healthcare provider to ensure your health needs are met and that your voice is heard. Bring your questions for a Q&A following the presentation. Sponsor: Friends of Newtown Seniors; Partner: C.H. Booth Library. Register at chboothlibrary.org or by calling 203-426-4533. \nMonday\, May 5\, at 3 pm in the C.H.Booth Library Meeting Room. Free.
URL:https://friendsofnewtownseniors.org/event/building-health-partnerships-how-to-collaborate-with-your-doctor-for-better-care/
LOCATION:C. H. Booth Library\, 25 Main Street\, Newtown\, CT\, 06470\, United States
ORGANIZER;CN="Friends of Newtown Seniors Inc.":MAILTO:info@friendsofnewtownseniors.org
END:VEVENT
BEGIN:VEVENT
DTSTART;TZID=America/New_York:20250507T170000
DTEND;TZID=America/New_York:20250507T200000
DTSTAMP:20260423T125715
CREATED:20250310T234037Z
LAST-MODIFIED:20250318T001438Z
UID:2408-1746637200-1746648000@friendsofnewtownseniors.org
SUMMARY:FONS Membership Meeting
DESCRIPTION:Save the Date! The meeting is open to Newtown residents age 55 or older. \nNewtown Community Center\n5 to 8 pm
URL:https://friendsofnewtownseniors.org/event/fons-membership-meeting-save-the-date/
LOCATION:CT
ORGANIZER;CN="Friends of Newtown Seniors Inc.":MAILTO:info@friendsofnewtownseniors.org
END:VEVENT
BEGIN:VEVENT
DTSTART;TZID=America/New_York:20250509T100000
DTEND;TZID=America/New_York:20250509T120000
DTSTAMP:20260423T125715
CREATED:20250430T200821Z
LAST-MODIFIED:20250430T201850Z
UID:2636-1746784800-1746792000@friendsofnewtownseniors.org
SUMMARY:Gentle Morning Hike for People New to Hiking
DESCRIPTION:Below is updated information on the May Timeless Newtown Hike; please note the change in date and contact information. \nMay 9 – Gentle Morning Hike for People New to Hiking. Housatonic Railroad Rail Trail\, Monroe\, 10 a.m. Led by Lou Picchione of Newtown Hikers. Free. Sponsors: Newtown Parks & Rec. and Newtown Hikers. Registration required as spaces are limited.  \nContact coordinator Andrea Zimmermann at 203-200-9745 or apzwriter@yahoo.com to register and for more information.
URL:https://friendsofnewtownseniors.org/event/gentle-morning-hike-for-people-new-to-hiking/
LOCATION:CT
END:VEVENT
BEGIN:VEVENT
DTSTART;TZID=America/New_York:20250516T000000
DTEND;TZID=America/New_York:20250518T000000
DTSTAMP:20260423T125715
CREATED:20250209T220353Z
LAST-MODIFIED:20250225T203843Z
UID:2287-1747353600-1747526400@friendsofnewtownseniors.org
SUMMARY:2025 Connecticut Masters Pickleball Tournament
DESCRIPTION:Tournament will be held May 16 – 18 at the Rocky Hill Tennis & Fitness Center in Rocky Hill CT. For more information\, click here.
URL:https://friendsofnewtownseniors.org/event/2025-connecticut-masters-pickleball-tournament/
LOCATION:CT
CATEGORIES:Fun & Games
END:VEVENT
BEGIN:VEVENT
DTSTART;TZID=America/New_York:20250521T080000
DTEND;TZID=America/New_York:20250521T170000
DTSTAMP:20260423T125715
CREATED:20250516T184945Z
LAST-MODIFIED:20250516T185020Z
UID:2657-1747814400-1747846800@friendsofnewtownseniors.org
SUMMARY:"The Latest Research on Aging" Free Presentation
DESCRIPTION:A presentation by Jenna Bartley\, PhD\, LCSW-S\, College of Health and Human Services\, SCSU\, followed by a Q&A. \nFree.  \nSponsor: Friends Of Newtown Seniors.\nPartner: C.H. Booth Library.\nRegister at chboothlibrary.org or by calling 203-426-4533. \nWednesday\, May 21\, at 3 p.m.\nC.H. Booth Library Community Room\n25 Main Street\nNewtown.
URL:https://friendsofnewtownseniors.org/event/the-latest-research-on-aging/
LOCATION:C. H. Booth Library\, 25 Main Street\, Newtown\, CT\, 06470\, United States
CATEGORIES:Community,Presentations and Forums
ORGANIZER;CN="Friends of Newtown Seniors Inc.":MAILTO:info@friendsofnewtownseniors.org
END:VEVENT
BEGIN:VEVENT
DTSTART;TZID=America/New_York:20250527T080000
DTEND;TZID=America/New_York:20250607T170000
DTSTAMP:20260423T125715
CREATED:20250430T201532Z
LAST-MODIFIED:20250608T225008Z
UID:2643-1748332800-1749315600@friendsofnewtownseniors.org
SUMMARY:Newtown School Events
DESCRIPTION:Please join us in celebrating the arts in the Newtown Public Schools and the next generation of aspiring artists and stars amongst us. The exhibits\, productions and concerts taking place in our schools demonstrate the growth of all students throughout the year as they continue to develop and master skills specific to each art form in their journey to become artistically literate citizens. The Visual and Performing Arts Department teachers and students would be honored to have you attend their events. \nJUNE\n3 NMS 7th Grade Spring Concert (Band/Chorus/Orchestra)\, 7:00 p.m. NHS\n4 NMS 8th Grade Spring Concert (Band/Chorus/Orchestra)\, 7:00 p.m. NHS\n7 “Ice Cream” for Jazz\, 7:00 p.m. NHS Café F
URL:https://friendsofnewtownseniors.org/event/newtown-school-events-4/
LOCATION:CT
END:VEVENT
BEGIN:VEVENT
DTSTART;TZID=America/New_York:20250527T153000
DTEND;TZID=America/New_York:20250527T170000
DTSTAMP:20260423T125715
CREATED:20250516T184456Z
LAST-MODIFIED:20250516T184456Z
UID:2652-1748359800-1748365200@friendsofnewtownseniors.org
SUMMARY:FONS May Roundtable
DESCRIPTION:Join the discussion of senior life in Newtown. All are welcome to attend. This month’s discussion will focus on the feedback received at the FONS Membership Meeting on May 7. For more information\, please contact Ned Simpson at neds2124@gmail.com.  \nHighlights from all Roundtable meetings are available on the FONS website. Please click here to access. \nTuesday\, May 27\n3:30 pm\nNewtown Senior Center
URL:https://friendsofnewtownseniors.org/event/fons-may-roundtable/
LOCATION:Newtown Senior Center\, 8 Simpson\, Newtown\, CT\, 06470\, United States
CATEGORIES:Monthly Roundtable
ORGANIZER;CN="Friends of Newtown Seniors Inc.":MAILTO:info@friendsofnewtownseniors.org
END:VEVENT
BEGIN:VEVENT
DTSTART;TZID=America/New_York:20250528T170000
DTEND;TZID=America/New_York:20250528T183000
DTSTAMP:20260423T125715
CREATED:20250516T184706Z
LAST-MODIFIED:20250516T184713Z
UID:2654-1748451600-1748457000@friendsofnewtownseniors.org
SUMMARY:FONS May Social
DESCRIPTION:Join other seniors for dinner and conversation!  \nPlease RSVP to Janice Garten at 203-304-9196 to reserve a spot – please call early. \nWednesday\, May 28\n5 pm\nMonroe Social\n494 Main Street\nMonroe
URL:https://friendsofnewtownseniors.org/event/fons-may-social-4/
LOCATION:Monroe Social\, 494 Main Street\, Monroe\, CT
CATEGORIES:Monthly Social
ORGANIZER;CN="Friends of Newtown Seniors Inc.":MAILTO:info@friendsofnewtownseniors.org
END:VEVENT
BEGIN:VEVENT
DTSTART;TZID=America/New_York:20250531T110000
DTEND;TZID=America/New_York:20250531T143000
DTSTAMP:20260423T125715
CREATED:20250430T201258Z
LAST-MODIFIED:20250430T201258Z
UID:2641-1748689200-1748701800@friendsofnewtownseniors.org
SUMMARY:Lions Club Great Pootatuck River Duck Race
DESCRIPTION:Tickets\, which the Lions like to call “duck adoptions\,” are $10 each and will be available through May 30 at local businesses; they will also be available online via newtownlions.org. \nSaturday\, May 31\, from 11 am to 2:30 pm\nHeritage Park\, 7 Glen Road\, Sandy Hook
URL:https://friendsofnewtownseniors.org/event/lions-club-great-pootatuck-river-duck-race/
LOCATION:CT
END:VEVENT
END:VCALENDAR