BEGIN:VCALENDAR
VERSION:2.0
PRODID:-//Friends of Newtown Seniors - ECPv6.15.20//NONSGML v1.0//EN
CALSCALE:GREGORIAN
METHOD:PUBLISH
X-WR-CALNAME:Friends of Newtown Seniors
X-ORIGINAL-URL:https://friendsofnewtownseniors.org
X-WR-CALDESC:Events for Friends of Newtown Seniors
REFRESH-INTERVAL;VALUE=DURATION:PT1H
X-Robots-Tag:noindex
X-PUBLISHED-TTL:PT1H
BEGIN:VTIMEZONE
TZID:America/New_York
BEGIN:DAYLIGHT
TZOFFSETFROM:-0500
TZOFFSETTO:-0400
TZNAME:EDT
DTSTART:20230312T070000
END:DAYLIGHT
BEGIN:STANDARD
TZOFFSETFROM:-0400
TZOFFSETTO:-0500
TZNAME:EST
DTSTART:20231105T060000
END:STANDARD
BEGIN:DAYLIGHT
TZOFFSETFROM:-0500
TZOFFSETTO:-0400
TZNAME:EDT
DTSTART:20240310T070000
END:DAYLIGHT
BEGIN:STANDARD
TZOFFSETFROM:-0400
TZOFFSETTO:-0500
TZNAME:EST
DTSTART:20241103T060000
END:STANDARD
BEGIN:DAYLIGHT
TZOFFSETFROM:-0500
TZOFFSETTO:-0400
TZNAME:EDT
DTSTART:20250309T070000
END:DAYLIGHT
BEGIN:STANDARD
TZOFFSETFROM:-0400
TZOFFSETTO:-0500
TZNAME:EST
DTSTART:20251102T060000
END:STANDARD
END:VTIMEZONE
BEGIN:VEVENT
DTSTART;TZID=America/New_York:20241214T090000
DTEND;TZID=America/New_York:20241214T160000
DTSTAMP:20260423T062641
CREATED:20241118T163949Z
LAST-MODIFIED:20241118T163959Z
UID:2145-1734166800-1734192000@friendsofnewtownseniors.org
SUMMARY:Volunteer 12/14 - Salvation Army Red Kettle Days
DESCRIPTION:Stop by and donate\, or even better\, offer to help staff the kettle!  \nThe Newtown Chapter of the Salvation Army will be at various locations throughout Newtown on December 14 and 21 collecting funds to help our local neighbors in need. 90% of the funds stay in Newtown helping with rent and utilities.  \nFONS will be at\nWalgreen’s from 9 am – 4 pm on 12/14 \nBagel Delight from 8 am – 1 pm on 12/21 \nIf you’d like to join us as a Bell Ringer\, please email joanalexander@bhhsne.com.
URL:https://friendsofnewtownseniors.org/event/volunteer-salvation-army-red-kettle-days/
CATEGORIES:Community,Volunteer
ORGANIZER;CN="Friends of Newtown Seniors Inc.":MAILTO:info@friendsofnewtownseniors.org
END:VEVENT
BEGIN:VEVENT
DTSTART;TZID=America/New_York:20241208T163000
DTEND;TZID=America/New_York:20241208T193000
DTSTAMP:20260423T062641
CREATED:20241202T014614Z
LAST-MODIFIED:20241202T014614Z
UID:2186-1733675400-1733686200@friendsofnewtownseniors.org
SUMMARY:Newtown Historical Society Members Holiday Party
DESCRIPTION:All Members and Volunteers of the Newtown Historical Society are invited to join us following the Holiday Open House on December 8. The festivities begin at 4:30 pm. Not a member or volunteer? Come and learn of the benefits of participating with this wonderful organization. \nFor more information about the Historical Society\, membership opportunities\, books for sale\, and upcoming events\, please click here.
URL:https://friendsofnewtownseniors.org/event/newtown-historical-society-members-holiday-party/
CATEGORIES:Community
ORGANIZER;CN="Newtown Historical Society":MAILTO:info@newtownhistory.org
END:VEVENT
BEGIN:VEVENT
DTSTART;TZID=America/New_York:20241208T110000
DTEND;TZID=America/New_York:20241208T160000
DTSTAMP:20260423T062641
CREATED:20241008T205928Z
LAST-MODIFIED:20241018T221749Z
UID:2107-1733655600-1733673600@friendsofnewtownseniors.org
SUMMARY:Newtown Annual Holiday Festival & Festival of Trees
DESCRIPTION:Newtown’s 39th Annual Holiday Festival to benefit Newtown Youth & Family Services will take place on Saturday\, December 8. For events information and updates\, please visit www.newtownyouthandfamilyservices.org.
URL:https://friendsofnewtownseniors.org/event/newtown-annual-holiday-festival/
LOCATION:Main Street\, Newtown\, CT
CATEGORIES:Community,Festivals,Fundraiser
END:VEVENT
BEGIN:VEVENT
DTSTART;TZID=America/New_York:20241207T110000
DTEND;TZID=America/New_York:20241208T160000
DTSTAMP:20260423T062641
CREATED:20241018T215926Z
LAST-MODIFIED:20241018T221942Z
UID:2114-1733569200-1733673600@friendsofnewtownseniors.org
SUMMARY:Newtown Festival of Trees & Newtown Festival
DESCRIPTION:Newtown’s 39th Annual Holiday Festival to benefit Newtown Youth & Family Services will take place on Saturday\, December 8. For events information and updates\, please visit \nDec 7th & 8th – FESTIVAL OF TREES \nDec 8th – FESTIVAL EVENTS
URL:https://friendsofnewtownseniors.org/event/newtown-festival-of-trees/
LOCATION:Trinity Episcopal Church\, 36 Main Street\, Newtown\, CT\, 06470
CATEGORIES:Community,Festivals,Fundraiser
END:VEVENT
BEGIN:VEVENT
DTSTART;TZID=America/New_York:20241207T093000
DTEND;TZID=America/New_York:20241208T173000
DTSTAMP:20260423T062641
CREATED:20241118T165335Z
LAST-MODIFIED:20241118T165430Z
UID:2157-1733563800-1733679000@friendsofnewtownseniors.org
SUMMARY:C.H. Booth Library's Two Day Holiday Sale
DESCRIPTION:The Friends of the C.H. Booth Library’s popular Holiday Sale returns for its 20th year!  The Holiday Sale will offer a huge selection of new and like-new gift-quality books for all ages\, jigsaw puzzles\, video games\, stocking-stuffers\, media and other holiday and gift items\, all very reasonably priced. Find more information at boothbooksale.org. \nDecember 7 and 8  \nMeeting Room (lower level)\nNewtown’s C.H. Booth Library\n25 Main Street.  \nSale hours are 9:30 am-5 pm on Saturday December 7 and 11:00 am-5 pm on Sunday December 8.
URL:https://friendsofnewtownseniors.org/event/c-h-booth-library-holiday-sle/
LOCATION:C. H. Booth Library\, 25 Main Street\, Newtown\, CT\, 06470\, United States
CATEGORIES:Community,Fundraiser
END:VEVENT
BEGIN:VEVENT
DTSTART;TZID=America/New_York:20241126T153000
DTEND;TZID=America/New_York:20241126T170000
DTSTAMP:20260423T062641
CREATED:20241106T223324Z
LAST-MODIFIED:20241106T223347Z
UID:2138-1732635000-1732640400@friendsofnewtownseniors.org
SUMMARY:FONS November Roundtable
DESCRIPTION:Join the discussion of senior life in Newtown. All are welcome to attend. For more information\, please contact Ned Simpson at neds2124@gmail.com. \nHighlights from all Roundtable meetings are available on the FONS website.\nTuesday\, November 26\, 3:30 pm\nNewtown Senior Center
URL:https://friendsofnewtownseniors.org/event/fons-november-roundtable/
LOCATION:Newtown Senior Center\, 8 Simpson\, Newtown\, CT\, 06470\, United States
CATEGORIES:Monthly Roundtable
ORGANIZER;CN="Friends of Newtown Seniors Inc.":MAILTO:info@friendsofnewtownseniors.org
END:VEVENT
BEGIN:VEVENT
DTSTART;TZID=America/New_York:20241120T160000
DTEND;TZID=America/New_York:20241120T180000
DTSTAMP:20260423T062641
CREATED:20241106T223003Z
LAST-MODIFIED:20241106T223031Z
UID:2136-1732118400-1732125600@friendsofnewtownseniors.org
SUMMARY:FONS November Social
DESCRIPTION:Please note the new time. Join other seniors for dinner and conversation! Please RSVP to Janice Garten at 203-304-9196 to reserve a spot – please call early. \nWednesday\, November 20\nDinner at 4 pm \nDel Primo\n450 Federal Road\nBrookfield
URL:https://friendsofnewtownseniors.org/event/fons-november-social-2/
CATEGORIES:Monthly Social
ORGANIZER;CN="Friends of Newtown Seniors Inc.":MAILTO:info@friendsofnewtownseniors.org
END:VEVENT
BEGIN:VEVENT
DTSTART;TZID=America/New_York:20241118T180000
DTEND;TZID=America/New_York:20241118T200000
DTSTAMP:20260423T062641
CREATED:20241118T164910Z
LAST-MODIFIED:20241118T164910Z
UID:2152-1731952800-1731960000@friendsofnewtownseniors.org
SUMMARY:Gone Missing - The Theater Project Presentation
DESCRIPTION:The Theater Project at the Library Presents “Gone Missing” In-Person. Join us for our autumn theater offering of “Gone Missing”; a mystery about a much loved woman who has gone missing. This piece was created by the cast members and written by Elizabeth Young. We hope you enjoy it! Come cheer on and support the efforts of this talented theater group!  \nMonday\, November 18\n6 pm\nMeeting Room\nC.H. Booth Library
URL:https://friendsofnewtownseniors.org/event/gone-missing-the-theater-project-presentation/
LOCATION:C. H. Booth Library\, 25 Main Street\, Newtown\, CT\, 06470\, United States
CATEGORIES:Community
END:VEVENT
BEGIN:VEVENT
DTSTART;TZID=America/New_York:20241118T080000
DTEND;TZID=America/New_York:20241218T170000
DTSTAMP:20260423T062641
CREATED:20241118T165026Z
LAST-MODIFIED:20241118T165055Z
UID:2154-1731916800-1734541200@friendsofnewtownseniors.org
SUMMARY:Volunteer - Edmond Town Hall Usher Program
DESCRIPTION:Interested in being a volunteer usher for live events at Edmond Town Hall? Ushers check tickets\, guide people to their seats\, and related activities. Once the curtain is raised ushers can stay and enjoy the show. Typically\, six volunteers are needed for each show. ETH emails a link to an electronic sign-up for each show. To get on that email list\, contact Lauren DiMartino at Ldimartino@edmondtownhall.org with your contact information and interests.
URL:https://friendsofnewtownseniors.org/event/edmond-town-hall-volunteer-usher-program/
LOCATION:Edmond Town Hall\, 45 Main Street\, Newtown\, CT\, 06470
CATEGORIES:Volunteer
END:VEVENT
BEGIN:VEVENT
DTSTART;TZID=America/New_York:20241117T140000
DTEND;TZID=America/New_York:20241117T160000
DTSTAMP:20260423T062641
CREATED:20241106T223741Z
LAST-MODIFIED:20241106T223741Z
UID:2142-1731852000-1731859200@friendsofnewtownseniors.org
SUMMARY:"Rosie the Riveter" Presentation
DESCRIPTION:“Rosie the Riveter” became an iconic symbol of working women during World War II. What was it really like for them? Connecticut Museum Educator\, Mya Concepcion\, will lead us through a multimedia presentation to help us learn the answer. We will look at propaganda posters\, art\, music\, photos\, and hear real-life accounts of Connecticut women who worked for victory during the war. \nSunday\, November 17\n2 pm\nC.H. Booth Library.
URL:https://friendsofnewtownseniors.org/event/rosie-the-riveter-presentation/
LOCATION:C. H. Booth Library\, 25 Main Street\, Newtown\, CT\, 06470\, United States
CATEGORIES:Educational,Presentations and Forums
END:VEVENT
BEGIN:VEVENT
DTSTART;TZID=America/New_York:20241114T190000
DTEND;TZID=America/New_York:20241117T213000
DTSTAMP:20260423T062641
CREATED:20241118T164635Z
LAST-MODIFIED:20241118T164655Z
UID:2150-1731610800-1731879000@friendsofnewtownseniors.org
SUMMARY:Letters to Sala - NHS Student Theater Production
DESCRIPTION:Newtown High School’s Production of “Letters to Sala” – Thursday\, November 14 – Sunday\, November 17 \nNewtown High School\n12 Berkshire Road\nSandy Hook.  \nPerformance Dates & Times\n7 pm on November 14\, 15 and 16\n2 pm on November 17.  \nTickets may be purchased at the door:\nAdults – $12\nSeniors – $10\nStudents – $7 \nThis production is a student run production. Please join us in celebrating the arts in the Newtown Public Schools and the next generation of aspiring artists and stars amongst us.
URL:https://friendsofnewtownseniors.org/event/letters-to-sala-nhs-student-theater-production/
LOCATION:Newtown High School\, 12 Berkshire Road\, Sandy Hook\, CT\, 06482\, United States
CATEGORIES:Community,School Events
END:VEVENT
BEGIN:VEVENT
DTSTART;TZID=America/New_York:20241112T190000
DTEND;TZID=America/New_York:20241112T203000
DTSTAMP:20260423T062641
CREATED:20241106T223532Z
LAST-MODIFIED:20241106T223532Z
UID:2140-1731438000-1731443400@friendsofnewtownseniors.org
SUMMARY:History of the Danbury Fair Zoom Meeting
DESCRIPTION:The Danbury Fair was an annual CT extravaganza that began in 1869 and captivated people from all corners of the region for over a century. Sadly\, the fair came to a close and now the Danbury Fair Mall stands in its place. Join John Cilio to take a trip down memory Lane\, reminiscing about the fun and tradition that was celebrated for decades.  \nTuesday\, November 12\n7 – 8:30 pm via Zoom.  \nContact: Kate Sasanoff\n203-426-4533\nKsasanoff@chboothlibrary.org\nLocation: Virtual Meeting Space 1
URL:https://friendsofnewtownseniors.org/event/history-of-the-danbury-fair-zoom-meeting/
CATEGORIES:Community,Educational,Presentations and Forums
END:VEVENT
BEGIN:VEVENT
DTSTART;TZID=America/New_York:20241110T120000
DTEND;TZID=America/New_York:20241110T170000
DTSTAMP:20260423T062641
CREATED:20241016T204359Z
LAST-MODIFIED:20241016T204620Z
UID:2098-1731240000-1731258000@friendsofnewtownseniors.org
SUMMARY:November Open House and Chocolate Making Demonstration
DESCRIPTION:Pewter Pot Fine Spiced Chocolates will be demonstrating the life of an 18th century chocolatier. Chocolates will also be available for sale. \nNewtown Historical Society\nSunday\, November 10\, at 12 pm\nMatthew Curtiss House\n44 Main Street \nEvent is free\, however\, donations are welcomed and appreciated.  For more information\, visit Newtown Historical Society
URL:https://friendsofnewtownseniors.org/event/november-open-house-and-chocolate-making-demonstration/
LOCATION:Matthew Curtiss House\, 44 Main Street\, Newtown\, CT\, 06470
CATEGORIES:Community,Educational,Presentations and Forums
ORGANIZER;CN="Newtown Historical Society":MAILTO:info@newtownhistory.org
END:VEVENT
BEGIN:VEVENT
DTSTART;TZID=America/New_York:20241030T160000
DTEND;TZID=America/New_York:20241030T170000
DTSTAMP:20260423T062641
CREATED:20241016T202604Z
LAST-MODIFIED:20241016T202604Z
UID:2088-1730304000-1730307600@friendsofnewtownseniors.org
SUMMARY:FONS October Social
DESCRIPTION:Please note the new time. Join other seniors for dinner and conversation!\nPlease RSVP to Janice Garten at 203-304-9196 to reserve a spot – please call early. \nWednesday\, October 30\nDinner at 4 pm\nCover Two\n100 Church Hill Road\nSandy Hook\, CT
URL:https://friendsofnewtownseniors.org/event/fons-october-social-3/
LOCATION:Cover Two\, 100 Church Hill Road\, Sandy Hook\, CT\, 064782
CATEGORIES:Monthly Social
ORGANIZER;CN="Friends of Newtown Seniors Inc.":MAILTO:info@friendsofnewtownseniors.org
END:VEVENT
BEGIN:VEVENT
DTSTART;TZID=America/New_York:20241030T090000
DTEND;TZID=America/New_York:20241111T170000
DTSTAMP:20260423T062641
CREATED:20240916T001339Z
LAST-MODIFIED:20241030T202146Z
UID:2066-1730278800-1731344400@friendsofnewtownseniors.org
SUMMARY:Newtown Community Art Exhibition: Submissions Due by October 7
DESCRIPTION:Stop by the library to pick up a 6”x 6” canvas to paint or draw art inspired by your favorite book to be displayed in the Meeting Room of the C.H. Booth Library during October and November. All ages welcome.
URL:https://friendsofnewtownseniors.org/event/newtown-community-art-exhibition-submissions-due-by-october-7/
CATEGORIES:Community
END:VEVENT
BEGIN:VEVENT
DTSTART;TZID=America/New_York:20241030T080000
DTEND;TZID=America/New_York:20241214T170000
DTSTAMP:20260423T062641
CREATED:20241016T201946Z
LAST-MODIFIED:20241030T201935Z
UID:2084-1730275200-1734195600@friendsofnewtownseniors.org
SUMMARY:FONS 2024 Annual Donation Appeal
DESCRIPTION:The FONS Annual Donation Appeal is under way through November 30. Our goal is to raise $3\,000 to continue our mission of serving our Newtown seniors\, through advocacy\, education\, programs\, and critically important services. As an all-volunteer non-profit\, we rely on funding through grants\, fundraisers\, and donations to achieve these goals. We hope that you can assist us in continuing our mission. No donation is too small. If you are able to make a donation to FONS\, please send your check or money order\, made payable to FONS\, to: \nFriends Of Newtown Seniors Inc\nP.O. Box 413\nNewtown\, CT 06470
URL:https://friendsofnewtownseniors.org/event/fons-2024-annual-donation-appeal/
CATEGORIES:Fundraiser
ORGANIZER;CN="Friends of Newtown Seniors Inc.":MAILTO:info@friendsofnewtownseniors.org
END:VEVENT
BEGIN:VEVENT
DTSTART;TZID=America/New_York:20241028T073000
DTEND;TZID=America/New_York:20241028T120000
DTSTAMP:20260423T062642
CREATED:20241016T205639Z
LAST-MODIFIED:20241016T205639Z
UID:2105-1730100600-1730116800@friendsofnewtownseniors.org
SUMMARY:Newtown Turkey Trot
DESCRIPTION:The 15th Annual Newtown Turkey Trot to benefit the C. H. Booth Library will take place on Thursday\, November 28. This event offers the opportunity to kick off your Thanksgiving Day celebrations by participating in a 5K run/walk or 2.5K (1.6 mile) fitness walk. To find out more information or to register\, please click here.
URL:https://friendsofnewtownseniors.org/event/newtown-turkey-trot/
LOCATION:C. H. Booth Library\, 25 Main Street\, Newtown\, CT\, 06470\, United States
CATEGORIES:Community,Fun & Games
END:VEVENT
BEGIN:VEVENT
DTSTART;TZID=America/New_York:20241027T120000
DTEND;TZID=America/New_York:20241027T170000
DTSTAMP:20260423T062642
CREATED:20241018T215313Z
LAST-MODIFIED:20241018T215313Z
UID:2110-1730030400-1730048400@friendsofnewtownseniors.org
SUMMARY:Friends of the C. H. Booth Library Fall Book Donation Day
DESCRIPTION:Newtown. Donations of books\, DVDs\, CDs\, LPs\, video games and complete jigsaw puzzles are welcome. Volunteers will be on hand to help you unload your vehicle and to provide tax receipts. \nYour donated items enable the Friends to raise money for the Booth Library at the big annual summer book sale\, the annual Holiday Sale in early December\, and the Friends-operated Little Book Store\, which is open year-round near the main circulation desk on the second floor of the library. \nVisit boothbooksale.org to read our donation guidelines. You can also contact the Friends at boothbooksale@yahoo.com or leave a message at 203-270-4537. \nSponsored by the Friends of the C.H. Booth Library\nSunday\, October 27 — rain or shine —\nNoon to 5 pm \nC.H. Booth Library\n25 Main Street\nRear parking lot
URL:https://friendsofnewtownseniors.org/event/friends-of-the-c-h-booth-library-fall-book-donation-day/
LOCATION:C. H. Booth Library\, 25 Main Street\, Newtown\, CT\, 06470\, United States
CATEGORIES:Community,Fundraiser
END:VEVENT
BEGIN:VEVENT
DTSTART;TZID=America/New_York:20241024T083000
DTEND;TZID=America/New_York:20241024T163000
DTSTAMP:20260423T062642
CREATED:20241016T205321Z
LAST-MODIFIED:20241016T205439Z
UID:2102-1729758600-1729787400@friendsofnewtownseniors.org
SUMMARY:Red Cross Blood Drive
DESCRIPTION:Thursday\, October 24: 8:30 am- 4:30 pm\nNewtown Congregational Church14 West St\, Newtown\, CT 06470 \nSave lives: Give Blood. Make an appointment to donate blood via https://www.redcrossblood.org/ (enter 5320) or by calling 1-800-733-2767.\nSave lives on October 24 and get a $10 Amazon gift card via email!
URL:https://friendsofnewtownseniors.org/event/red-cross-blood-drive-22/
LOCATION:Newtown Congregational Church\, 14 West Street\, Newtown\, CT\, 06470
CATEGORIES:Blood Drives
END:VEVENT
BEGIN:VEVENT
DTSTART;TZID=America/New_York:20241022T170000
DTEND;TZID=America/New_York:20241022T210000
DTSTAMP:20260423T062642
CREATED:20240923T003618Z
LAST-MODIFIED:20240923T004111Z
UID:2072-1729616400-1729630800@friendsofnewtownseniors.org
SUMMARY:FONS Oktoberfest
DESCRIPTION:This is a private indoor event featuring an “All You Can Eat Buffet”: Bratwurst\, Knockwurst\, German Potato Salad\, Pizza\, Giant Pretzel\, and one beverage. Entertainment provided by Solid Gold Times Two; 50/50 Raffle. \nCost is $36/person. Please call Bev at 203-430-0633 or Louise at 475-236-1111\, or email luann0570@yahoo.com. \nTuesday\, October 22\n5 – 9 pm\nNewsylum Brewing Company\nFairfield Hills Campus
URL:https://friendsofnewtownseniors.org/event/fons-oktoberfest-2/
LOCATION:NewSylum Brewing Company\, 36 Keating Farms Avenue\, Newtown\, CT\, 06470
CATEGORIES:Community,Festivals,Food,Fun & Games
ORGANIZER;CN="Friends of Newtown Seniors Inc.":MAILTO:info@friendsofnewtownseniors.org
END:VEVENT
BEGIN:VEVENT
DTSTART;TZID=America/New_York:20241022T153000
DTEND;TZID=America/New_York:20241022T170000
DTSTAMP:20260423T062642
CREATED:20241016T202352Z
LAST-MODIFIED:20241018T214918Z
UID:2086-1729611000-1729616400@friendsofnewtownseniors.org
SUMMARY:FONS Roundtable - Traffic Congestion in Newtown
DESCRIPTION:Join the discussion of senior life in Newtown. This month’s topic is traffic congestion in Newtown. . All are welcome to attend.  \nFor more information\, please contact Ned Simpson at neds2124@gmail.com. \nTuesday\, October 22\, at 3:30 pm at the Senior Center.
URL:https://friendsofnewtownseniors.org/event/fons-roundtable-5/
LOCATION:Newtown Senior Center\, 8 Simpson\, Newtown\, CT\, 06470\, United States
CATEGORIES:Monthly Roundtable
ORGANIZER;CN="Friends of Newtown Seniors Inc.":MAILTO:info@friendsofnewtownseniors.org
END:VEVENT
BEGIN:VEVENT
DTSTART;TZID=America/New_York:20241021T140000
DTEND;TZID=America/New_York:20241022T153000
DTSTAMP:20260423T062642
CREATED:20240915T235710Z
LAST-MODIFIED:20241118T170004Z
UID:2055-1729519200-1729611000@friendsofnewtownseniors.org
SUMMARY:10-Week Theater Class Series
DESCRIPTION:The theater program is led by Beth Young\, who has many years experience as a writer\, actor\, and director. It is a fun way to meet new people and learn new skills. If you have ever dreamed of writing for the stage\, or acting on it\, join us! In November\, the classes culminate in a performance\, with a live audience\, to celebrate your accomplishment.\nNo experience is necessary\, all are welcome. Please register in advance. \nC.H. Booth Library\nMondays from 2-3:30 pm in the Meeting Room of the library. \nMonday\, September 9\nMonday\, September 16\nMonday\, September 23\nMonday\, September 30\nMonday\, October 7\nMonday\, October 14\nMonday\, October 21\nMonday\, October 28\nMonday\, November 4\nMonday\, November 11
URL:https://friendsofnewtownseniors.org/event/10-week-theater-class-series/
LOCATION:C. H. Booth Library\, 25 Main Street\, Newtown\, CT\, 06470\, United States
CATEGORIES:Community,Presentations and Forums,Workshops
END:VEVENT
BEGIN:VEVENT
DTSTART;TZID=America/New_York:20241020T140000
DTEND;TZID=America/New_York:20241020T163000
DTSTAMP:20260423T062642
CREATED:20241016T203824Z
LAST-MODIFIED:20241016T203929Z
UID:2094-1729432800-1729441800@friendsofnewtownseniors.org
SUMMARY:"Katharine Hepburn: From Hartford to Hollywood"
DESCRIPTION:Newtown Historical Society presents by Christine Rewinski from the CT Historical Society. Born and raised in CT\, Hepburn had a decades long\, ground breaking career in stage\, film and TV. Learn the role her life-long ties to CT played in how Hepburn became an icon. \nEvent is free\, however\, donations are welcomed and appreciated. \nFor more information about the Historical Society and upcoming events\, please click here. \nSunday\, October 20\n2 pm\nC.H. Booth Library\,
URL:https://friendsofnewtownseniors.org/event/katharine-hepburn-from-hartford-to-hollywood/
LOCATION:C. H. Booth Library\, 25 Main Street\, Newtown\, CT\, 06470\, United States
CATEGORIES:Community,Educational,Presentations and Forums
ORGANIZER;CN="Newtown Historical Society":MAILTO:info@newtownhistory.org
END:VEVENT
BEGIN:VEVENT
DTSTART;TZID=America/New_York:20241019T080000
DTEND;TZID=America/New_York:20241020T170000
DTSTAMP:20260423T062642
CREATED:20240807T151159Z
LAST-MODIFIED:20240807T151159Z
UID:2014-1729324800-1729443600@friendsofnewtownseniors.org
SUMMARY:2024 Nutmeg Fall Pickleball Classic
DESCRIPTION:Tournament will be held October 19 – 20 at the Lyme Shores Racquet Club in East Lyme\, CT.  \nFor more information\, click here.
URL:https://friendsofnewtownseniors.org/event/2024-nutmeg-fall-pickleball-classic/
CATEGORIES:Fun & Games
ATTACH;FMTTYPE=image/png:https://friendsofnewtownseniors.org/wp-content/uploads/2024/08/Screenshot_2024-07-26_124956.png
END:VEVENT
BEGIN:VEVENT
DTSTART;TZID=America/New_York:20241013T140000
DTEND;TZID=America/New_York:20241013T170000
DTSTAMP:20260423T062642
CREATED:20240904T022035Z
LAST-MODIFIED:20240915T234657Z
UID:2042-1728828000-1728838800@friendsofnewtownseniors.org
SUMMARY:Sunday Afternoon at the Theater
DESCRIPTION:Rescheduled for  at the Little Theater\, 18 Orchard Hill Rd.\, Newtown. FONS invites you to enjoy the play\, “I Never Sang For My Father”. Tickets are $25 (with $5 senior discount). Order your tickets online at newtownplayers.org. Select “I Never Sang For My Father” and the October 13 2 pm show. Follow the instructions and enter the promo code: [TP_FONS_2024] (for $5 Senior discount per ticket). If you have any questions\, please email Frank Monette at  Monettes@comcast.net or call 617-447-3712. \nNote: If you purchased tickets for the 9/22 performance\, you should have received a refund. You will need to purchase tickets for the 10/13 performance. \n  \nSunday\, October 13\, at 2 pm\nLittle Theater\n18 Orchard Hill Rd\nNewtown
URL:https://friendsofnewtownseniors.org/event/sunday-afternoon-at-the-theater-2/
LOCATION:The Little Theater\, Orchard Hill Rd\, Newtown\, CT\, 06470\, United States
CATEGORIES:Community
END:VEVENT
BEGIN:VEVENT
DTSTART;TZID=America/New_York:20241012T090000
DTEND;TZID=America/New_York:20241012T120000
DTSTAMP:20260423T062642
CREATED:20240610T003425Z
LAST-MODIFIED:20240915T235308Z
UID:1883-1728723600-1728734400@friendsofnewtownseniors.org
SUMMARY:FONS Shredding Event
DESCRIPTION:Newtown Savings Bank is sponsoring a Paper Shredding Event\, with all proceeds to benefit FONS. \nSeniors pay $5 per box; all others $10 per box to securely dispose of confidential documents. \nPlease remove any paper clips from documents. If you have any questions\, please call 203-430-0633 or email info@friendsofnewtownseniors.org. Start gathering your documents now! \nSaturday\, October 12\, from 9 am – 12 pm\nNewtown Savings Bank\nBranch in Plaza South\,\n274 South Main Street\nNewtown
URL:https://friendsofnewtownseniors.org/event/fons-shredding-event/
CATEGORIES:Community,Fundraiser
END:VEVENT
BEGIN:VEVENT
DTSTART;TZID=America/New_York:20241005T093000
DTEND;TZID=America/New_York:20241006T170000
DTSTAMP:20260423T062642
CREATED:20240916T002117Z
LAST-MODIFIED:20240916T002117Z
UID:2070-1728120600-1728234000@friendsofnewtownseniors.org
SUMMARY:Special Do-it-Yourself Book Sale
DESCRIPTION:The Friends of the C.H. Booth Library will hold a special sale of Do-it-Yourself books and media \nThe sale will feature thousands of reasonably-priced books and DVDs covering a broad range of hobbies and crafts: woodworking\, furniture-making and other wood crafts; home improvement and decorating; sewing\, knitting and other fabric arts; cooking\, gardening and more. All of the sale items are in mint condition and most of them are from Newtown’s prestigious Taunton Press. Visit boothbooksale.org for more information. \nLower-level Meeting Room\nNewtown’s C.H. Booth Library\n25 Main Street. \nSale Hours\nSaturday\, October 5\, 9:30-5\nSunday October 6\, noon-5
URL:https://friendsofnewtownseniors.org/event/special-do-it-yourself-book-sale/
LOCATION:C. H. Booth Library\, 25 Main Street\, Newtown\, CT\, 06470\, United States
CATEGORIES:Community
END:VEVENT
BEGIN:VEVENT
DTSTART;TZID=America/New_York:20240928T180000
DTEND;TZID=America/New_York:20240928T213000
DTSTAMP:20260423T062642
CREATED:20240807T150625Z
LAST-MODIFIED:20240807T150647Z
UID:2010-1727546400-1727559000@friendsofnewtownseniors.org
SUMMARY:Murder Mystery Fundraiser at the C.H. Booth Library
DESCRIPTION:Murder Mystery Fundraiser at the C.H. Booth Library on Saturday\, September 28 – “Death Of A Gangster”\, an immersive 1920’s murder mystery. 1920’s attire welcome\, but not required to attend the event. Doors open at 6 pm\, entertainment begins at 7 pm. Libations and lite bites included. Tickets are $100 per person\, proceeds to benefit the library. \nTickets are limited – please visit chboothlibrary.org to reserve your seat. Must be 21 or older to attend.
URL:https://friendsofnewtownseniors.org/event/murder-mystery-fundraiser-at-the-c-h-booth-library/
LOCATION:C. H. Booth Library\, 25 Main Street\, Newtown\, CT\, 06470\, United States
CATEGORIES:Community,Fun & Games
END:VEVENT
BEGIN:VEVENT
DTSTART;TZID=America/New_York:20240928T090000
DTEND;TZID=America/New_York:20240928T160000
DTSTAMP:20260423T062642
CREATED:20240923T004402Z
LAST-MODIFIED:20240923T004402Z
UID:2075-1727514000-1727539200@friendsofnewtownseniors.org
SUMMARY:Newtown Lions Club Stuff-A-Truck
DESCRIPTION:The Third Annual Newtown Lions Club Stuff-A-Truck Food Drive in cooperation with Big Y World Class Market and the US Army 411th Civil Affairs Battalion will be held on Saturday\, September 28\, from 9 am to 4 pm at the Queen Street Shopping Plaza in Newtown. The event benefits Faith Food Pantry (Newtown) \, Hospitality Hall (Newtown)\, Daily Bread Food Pantry (Danbury) and the Bridgeport Rescue Mission in Bridgeport.  \nJust come by Big Y on Saturday September 28 and purchase a pre-packaged bag of food or shop for any number of suggested grocery items. Stuff-A-Truck courtesy of the US Army 411th Civil Affairs Battalion\, Big Y and the Newtown Lions Club.
URL:https://friendsofnewtownseniors.org/event/newtown-lions-club-stuff-a-truck-2/
LOCATION:Big Y Newtown\, Queen Street Shopping Plaza\, Newtown\, CT\, 06470\, United States
CATEGORIES:Community,Volunteer
END:VEVENT
BEGIN:VEVENT
DTSTART;TZID=America/New_York:20240928T090000
DTEND;TZID=America/New_York:20240928T160000
DTSTAMP:20260423T062642
CREATED:20240823T000917Z
LAST-MODIFIED:20240823T000926Z
UID:2034-1727514000-1727539200@friendsofnewtownseniors.org
SUMMARY:Nunnawauk Meadows Annual Tag/Craft Sale
DESCRIPTION:Nunnawauk Meadows will be holding their annual Tag and Craft Sale on Saturday\, September 28\, from 9 am to 4 pm\, at 3 Nunnawauk Rd.\, Newtown. Many household and garden items\, jewelry\, toys\, delicious baked goods\, and holiday decor\, as well as beautiful handcrafted items will be for sale. Please stop by!
URL:https://friendsofnewtownseniors.org/event/nunnawauk-meadows-annual-tag-craft-sale/
LOCATION:Nunnawauk Meadows\, 3 Nunnawauk Road\, Newtown\, CT\, 06470
CATEGORIES:Community,Fundraiser
END:VEVENT
END:VCALENDAR