BEGIN:VCALENDAR
VERSION:2.0
PRODID:-//Friends of Newtown Seniors - ECPv6.15.20//NONSGML v1.0//EN
CALSCALE:GREGORIAN
METHOD:PUBLISH
X-ORIGINAL-URL:https://friendsofnewtownseniors.org
X-WR-CALDESC:Events for Friends of Newtown Seniors
REFRESH-INTERVAL;VALUE=DURATION:PT1H
X-Robots-Tag:noindex
X-PUBLISHED-TTL:PT1H
BEGIN:VTIMEZONE
TZID:America/New_York
BEGIN:DAYLIGHT
TZOFFSETFROM:-0500
TZOFFSETTO:-0400
TZNAME:EDT
DTSTART:20240310T070000
END:DAYLIGHT
BEGIN:STANDARD
TZOFFSETFROM:-0400
TZOFFSETTO:-0500
TZNAME:EST
DTSTART:20241103T060000
END:STANDARD
BEGIN:DAYLIGHT
TZOFFSETFROM:-0500
TZOFFSETTO:-0400
TZNAME:EDT
DTSTART:20250309T070000
END:DAYLIGHT
BEGIN:STANDARD
TZOFFSETFROM:-0400
TZOFFSETTO:-0500
TZNAME:EST
DTSTART:20251102T060000
END:STANDARD
BEGIN:DAYLIGHT
TZOFFSETFROM:-0500
TZOFFSETTO:-0400
TZNAME:EDT
DTSTART:20260308T070000
END:DAYLIGHT
BEGIN:STANDARD
TZOFFSETFROM:-0400
TZOFFSETTO:-0500
TZNAME:EST
DTSTART:20261101T060000
END:STANDARD
END:VTIMEZONE
BEGIN:VEVENT
DTSTART;TZID=America/New_York:20250614T090000
DTEND;TZID=America/New_York:20250614T170000
DTSTAMP:20260423T134359
CREATED:20250608T225232Z
LAST-MODIFIED:20250608T225232Z
UID:2705-1749891600-1749920400@friendsofnewtownseniors.org
SUMMARY:Newtown Lions Diaper Express Stuff-A-Truck Event
DESCRIPTION:Newtown Lions in collaboration with the US Army 411 Civil Affairs Battalion are running another Stuff-A-Truck Event to collect Diapers. The Diaper Express is designed to serve our Families in need through the Area Food Pantries including Faith Food Pantry Newtown\, Hospitality Hall Newtown\, Daily Bread Danbury\, and the Bridgeport Rescue Mission. Please help the Newtown Lions Club serve our local community through this worthy project. \nSaturday June 14 at Stop and Shop in Sand Hill Plaza from 9 am – 5 pm\,
URL:https://friendsofnewtownseniors.org/event/newtown-lions-diaper-express-stuff-a-truck-event/
LOCATION:Stop & Shop Plaza\, 228 S Main Street\, Newtown\, CT
CATEGORIES:Volunteer
END:VEVENT
END:VCALENDAR