BEGIN:VCALENDAR
VERSION:2.0
PRODID:-//Friends of Newtown Seniors - ECPv6.15.20//NONSGML v1.0//EN
CALSCALE:GREGORIAN
METHOD:PUBLISH
X-ORIGINAL-URL:https://friendsofnewtownseniors.org
X-WR-CALDESC:Events for Friends of Newtown Seniors
REFRESH-INTERVAL;VALUE=DURATION:PT1H
X-Robots-Tag:noindex
X-PUBLISHED-TTL:PT1H
BEGIN:VTIMEZONE
TZID:America/New_York
BEGIN:DAYLIGHT
TZOFFSETFROM:-0500
TZOFFSETTO:-0400
TZNAME:EDT
DTSTART:20250309T070000
END:DAYLIGHT
BEGIN:STANDARD
TZOFFSETFROM:-0400
TZOFFSETTO:-0500
TZNAME:EST
DTSTART:20251102T060000
END:STANDARD
BEGIN:DAYLIGHT
TZOFFSETFROM:-0500
TZOFFSETTO:-0400
TZNAME:EDT
DTSTART:20260308T070000
END:DAYLIGHT
BEGIN:STANDARD
TZOFFSETFROM:-0400
TZOFFSETTO:-0500
TZNAME:EST
DTSTART:20261101T060000
END:STANDARD
BEGIN:DAYLIGHT
TZOFFSETFROM:-0500
TZOFFSETTO:-0400
TZNAME:EDT
DTSTART:20270314T070000
END:DAYLIGHT
BEGIN:STANDARD
TZOFFSETFROM:-0400
TZOFFSETTO:-0500
TZNAME:EST
DTSTART:20271107T060000
END:STANDARD
END:VTIMEZONE
BEGIN:VEVENT
DTSTART;TZID=America/New_York:20260126T180000
DTEND;TZID=America/New_York:20260126T190000
DTSTAMP:20260423T085839
CREATED:20260116T153713Z
LAST-MODIFIED:20260116T153822Z
UID:3004-1769450400-1769454000@friendsofnewtownseniors.org
SUMMARY:Home Downsizing Workshop: Your Children Don’t Want It. What Can You Do? (Zoom Meeting)
DESCRIPTION:We hear it every day\, and it’s happening all over America. In this session\, Mike will give you 15 tips designed not only to help you deal with your “stuff”\, but hopefully help you make some good money when selling it. Please click here to register to receive the Zoom link. \nMonday\, January 26 at 6:00 pm via Zoom.
URL:https://friendsofnewtownseniors.org/event/home-downsizing-workshop-your-children-dont-want-it-what-can-you-do/
CATEGORIES:Community,Educational,Presentations and Forums
END:VEVENT
END:VCALENDAR