BEGIN:VCALENDAR
VERSION:2.0
PRODID:-//Friends of Newtown Seniors - ECPv6.15.20//NONSGML v1.0//EN
CALSCALE:GREGORIAN
METHOD:PUBLISH
X-WR-CALNAME:Friends of Newtown Seniors
X-ORIGINAL-URL:https://friendsofnewtownseniors.org
X-WR-CALDESC:Events for Friends of Newtown Seniors
REFRESH-INTERVAL;VALUE=DURATION:PT1H
X-Robots-Tag:noindex
X-PUBLISHED-TTL:PT1H
BEGIN:VTIMEZONE
TZID:America/New_York
BEGIN:DAYLIGHT
TZOFFSETFROM:-0500
TZOFFSETTO:-0400
TZNAME:EDT
DTSTART:20240310T070000
END:DAYLIGHT
BEGIN:STANDARD
TZOFFSETFROM:-0400
TZOFFSETTO:-0500
TZNAME:EST
DTSTART:20241103T060000
END:STANDARD
BEGIN:DAYLIGHT
TZOFFSETFROM:-0500
TZOFFSETTO:-0400
TZNAME:EDT
DTSTART:20250309T070000
END:DAYLIGHT
BEGIN:STANDARD
TZOFFSETFROM:-0400
TZOFFSETTO:-0500
TZNAME:EST
DTSTART:20251102T060000
END:STANDARD
BEGIN:DAYLIGHT
TZOFFSETFROM:-0500
TZOFFSETTO:-0400
TZNAME:EDT
DTSTART:20260308T070000
END:DAYLIGHT
BEGIN:STANDARD
TZOFFSETFROM:-0400
TZOFFSETTO:-0500
TZNAME:EST
DTSTART:20261101T060000
END:STANDARD
END:VTIMEZONE
BEGIN:VEVENT
DTSTART;TZID=America/New_York:20250914T120000
DTEND;TZID=America/New_York:20250914T150000
DTSTAMP:20260423T151039
CREATED:20250908T161703Z
LAST-MODIFIED:20250908T161703Z
UID:2845-1757851200-1757862000@friendsofnewtownseniors.org
SUMMARY:Newtown Historical Society's Annual “Little Red Schoolhouse” Event
DESCRIPTION:Join us as we open up our beloved historic landmark to the public! Kids and adults alike will enjoy a 19th century lesson taught by “Miss Melissa\,” as well as traditional outdoor games guided by our junior docents. As always\, apple cider will be served. The program is free\, but donations are appreciated! Visit www.newtownhistory.org for more information. \nSunday\, September 14\, from 12 – 3 pm\nMiddle Gate Elementary School\n7 Cold Spring Road\nNewtown\, CT   \nThe Newtown Historical Society has a number of events scheduled –\nclick here for a full list of events and details.
URL:https://friendsofnewtownseniors.org/event/newtown-historical-societys-annual-little-red-schoolhouse-event/
CATEGORIES:Community,Educational,Presentations and Forums
ORGANIZER;CN="Newtown Historical Society":MAILTO:info@newtownhistory.org
END:VEVENT
BEGIN:VEVENT
DTSTART;TZID=America/New_York:20250916T183000
DTEND;TZID=America/New_York:20250916T200000
DTSTAMP:20260423T151039
CREATED:20250908T161350Z
LAST-MODIFIED:20250908T161350Z
UID:2843-1758047400-1758052800@friendsofnewtownseniors.org
SUMMARY:Goodspeed Musicals and Theatre Presentation
DESCRIPTION:Please join us on Tuesday\, September 16\, from 6:30 – 8 pm at the Community Center\, for a special presentation about Goodspeed Musicals and Musical Theatre. The program will be presented by Michael Fling\, Associate Artistic Director\, and will feature a brief history of Goodspeed and exclusive clips from recent productions. A Q&A session will conclude the presentation. This free program is being hosted by Anne Rothstein and Jane Hellman. \nEveryone who attends will be entered into a raffle to win a pair of tickets to an upcoming show this season and selected Goodspeed gift shop merchandise! All attendees will receive a $10 discount coupon. \nPlease RSVP by Wednesday\, September 12 by calling the Newtown Senior Center at 203-270-4310.
URL:https://friendsofnewtownseniors.org/event/goodspeed-musicals-and-theatre-presentation/
LOCATION:Newtown Community Center\, 8 Simpson Street\, Newtown\, CT\, 06470
CATEGORIES:Community,Fun & Games,Presentations and Forums
END:VEVENT
BEGIN:VEVENT
DTSTART;TZID=America/New_York:20250918T180000
DTEND;TZID=America/New_York:20250918T200000
DTSTAMP:20260423T151039
CREATED:20250908T155912Z
LAST-MODIFIED:20250908T155912Z
UID:2827-1758218400-1758225600@friendsofnewtownseniors.org
SUMMARY:Max Kapytka - Moderator at Timeless Newtown One Town One Read Author Presentation
DESCRIPTION:Timeless Newtown One Town One Read Author Presentation – Please join us on Thursday\, September 18\, at 7 pm at the Edmond Town Hall\, 45 Main Street\, Newtown\, for Dr. Tracey Gendron’s presentation on her book – Ageism Unmasked: Exploring Age Bias and How to End It.  \nMax Kapytka\, a 16-year-old Brookfield High School student and co-founder of Munchin Hedgehog Ice Cream & International Sweet Shop\, will be the moderator. Click here to make your reservation. Doors open at 6 pm. This event is FREE. \nIf you haven’t already done so\, pick up a FREE copy of the book at the C.H. Booth Library\, the Newtown Youth Academy (NYA)\, the Newtown Community Center or the Newtown Municipal Center and join the Newtown One Town One Read Program! Click here to register for updates and further information on the program.
URL:https://friendsofnewtownseniors.org/event/max-kapytka-moderator-at-timeless-newtown-one-town-one-read-author-presentation/
LOCATION:Edmond Town Hall\, 45 Main Street\, Newtown\, CT\, 06470
CATEGORIES:Community,Educational,Presentations and Forums
ORGANIZER;CN="Friends of Newtown Seniors Inc.":MAILTO:info@friendsofnewtownseniors.org
END:VEVENT
BEGIN:VEVENT
DTSTART;TZID=America/New_York:20250921T140000
DTEND;TZID=America/New_York:20250921T150000
DTSTAMP:20260423T151039
CREATED:20250908T161855Z
LAST-MODIFIED:20250908T161902Z
UID:2847-1758463200-1758466800@friendsofnewtownseniors.org
SUMMARY:"The Life of Eleanor Roosevelt"
DESCRIPTION:Leader\, survivor\, innovator\, public servant – these are just a few words that describe Eleanor Roosevelt. Join the Newtown Historical Society as we welcome back speaker Mark Albertson\, who will lead us on a journey through the life and times of Eleanor Roosevelt\, including her childhood in New York and London\, her time in the White House\, her seat at the United Nation’s General Assembly\, and her ongoing legacy in modern times. Click here for more information.\nSunday\, September 21\, from 2 – 3 pm at the Newtown Senior Center.
URL:https://friendsofnewtownseniors.org/event/the-life-of-eleanor-roosevelt/
LOCATION:Newtown Senior Center\, 8 Simpson\, Newtown\, CT\, 06470\, United States
CATEGORIES:Community,Educational,Presentations and Forums
ORGANIZER;CN="Newtown Historical Society":MAILTO:info@newtownhistory.org
END:VEVENT
BEGIN:VEVENT
DTSTART;TZID=America/New_York:20250921T200000
DTEND;TZID=America/New_York:20251011T220000
DTSTAMP:20260423T151039
CREATED:20250915T170424Z
LAST-MODIFIED:20250930T221045Z
UID:2879-1758484800-1760220000@friendsofnewtownseniors.org
SUMMARY:"Who's Afraid of Virginia Woolf?" - Newtown Town Players Production
DESCRIPTION:FONS hopes you enjoy this performance. \nTickets are $25 (with $5 senior discount). Order your ticket at newtownplayers.org Click on Tickets (you will be directed to showclix.com)\, select Get Tickets\, then select your preferred performance date & time\, ADD (+) number of Tickets and enter promo code: FONS_2025\, Submit\, Check out and Complete Order. \nSeptember 21 – October 11\nVarious times – visit website for details. \nNewtown Town Players\nLittle Theatre\n18 Orchard Hill Road\nNewtown
URL:https://friendsofnewtownseniors.org/event/whos-afraid-of-virginia-woolf-newtown-town-players-production/
LOCATION:The Little Theater\, Orchard Hill Rd\, Newtown\, CT\, 06470\, United States
CATEGORIES:Community,Presentations and Forums
END:VEVENT
END:VCALENDAR