BEGIN:VCALENDAR
VERSION:2.0
PRODID:-//Friends of Newtown Seniors - ECPv6.15.20//NONSGML v1.0//EN
CALSCALE:GREGORIAN
METHOD:PUBLISH
X-ORIGINAL-URL:https://friendsofnewtownseniors.org
X-WR-CALDESC:Events for Friends of Newtown Seniors
REFRESH-INTERVAL;VALUE=DURATION:PT1H
X-Robots-Tag:noindex
X-PUBLISHED-TTL:PT1H
BEGIN:VTIMEZONE
TZID:America/New_York
BEGIN:DAYLIGHT
TZOFFSETFROM:-0500
TZOFFSETTO:-0400
TZNAME:EDT
DTSTART:20230312T070000
END:DAYLIGHT
BEGIN:STANDARD
TZOFFSETFROM:-0400
TZOFFSETTO:-0500
TZNAME:EST
DTSTART:20231105T060000
END:STANDARD
BEGIN:DAYLIGHT
TZOFFSETFROM:-0500
TZOFFSETTO:-0400
TZNAME:EDT
DTSTART:20240310T070000
END:DAYLIGHT
BEGIN:STANDARD
TZOFFSETFROM:-0400
TZOFFSETTO:-0500
TZNAME:EST
DTSTART:20241103T060000
END:STANDARD
BEGIN:DAYLIGHT
TZOFFSETFROM:-0500
TZOFFSETTO:-0400
TZNAME:EDT
DTSTART:20250309T070000
END:DAYLIGHT
BEGIN:STANDARD
TZOFFSETFROM:-0400
TZOFFSETTO:-0500
TZNAME:EST
DTSTART:20251102T060000
END:STANDARD
BEGIN:DAYLIGHT
TZOFFSETFROM:-0500
TZOFFSETTO:-0400
TZNAME:EDT
DTSTART:20260308T070000
END:DAYLIGHT
BEGIN:STANDARD
TZOFFSETFROM:-0400
TZOFFSETTO:-0500
TZNAME:EST
DTSTART:20261101T060000
END:STANDARD
BEGIN:DAYLIGHT
TZOFFSETFROM:-0500
TZOFFSETTO:-0400
TZNAME:EDT
DTSTART:20270314T070000
END:DAYLIGHT
BEGIN:STANDARD
TZOFFSETFROM:-0400
TZOFFSETTO:-0500
TZNAME:EST
DTSTART:20271107T060000
END:STANDARD
END:VTIMEZONE
BEGIN:VEVENT
DTSTART;TZID=America/New_York:20260128T160000
DTEND;TZID=America/New_York:20260128T173000
DTSTAMP:20260422T204806
CREATED:20260116T153505Z
LAST-MODIFIED:20260116T153525Z
UID:3002-1769616000-1769621400@friendsofnewtownseniors.org
SUMMARY:FONS January Social
DESCRIPTION:Join other seniors for dinner and conversation! Please RSVP to Janice Garten at 203-304-9196 to reserve a spot. PLEASE NOTE THE NEW TIME. \nWednesday\, January 28\, 4 pm \nMarygold’s\nMain Street\nNewtown
URL:https://friendsofnewtownseniors.org/event/fons-january-social-3/
LOCATION:Marygold’s\, 19 Main Street\, Newtown\, CT
CATEGORIES:Food,Monthly Social
ORGANIZER;CN="Friends of Newtown Seniors Inc.":MAILTO:info@friendsofnewtownseniors.org
END:VEVENT
BEGIN:VEVENT
DTSTART;TZID=America/New_York:20251029T170000
DTEND;TZID=America/New_York:20251029T183000
DTSTAMP:20260422T204806
CREATED:20251006T212453Z
LAST-MODIFIED:20251006T212453Z
UID:2915-1761757200-1761762600@friendsofnewtownseniors.org
SUMMARY:FONS October Social 
DESCRIPTION:Join other seniors for dinner and conversation! Please RSVP to Janice Garten at 203-304-9196 to reserve a spot. \nWednesday\, October 29\, at 5 pm\nThe Ranch Pub\n160 S. Main Street\nNewtown
URL:https://friendsofnewtownseniors.org/event/fons-october-social/
LOCATION:CT
CATEGORIES:Monthly Social
ORGANIZER;CN="Friends of Newtown Seniors Inc.":MAILTO:info@friendsofnewtownseniors.org
END:VEVENT
BEGIN:VEVENT
DTSTART;TZID=America/New_York:20250924T170000
DTEND;TZID=America/New_York:20250924T183000
DTSTAMP:20260422T204806
CREATED:20250915T165704Z
LAST-MODIFIED:20250915T165704Z
UID:2875-1758733200-1758738600@friendsofnewtownseniors.org
SUMMARY:FONS September Social
DESCRIPTION:Join other seniors for dinner and conversation! Please RSVP to Janice Garten at 203-304-9196 to reserve a spot. \nWednesday\, September 24\, at 5 pm\nMonroe Social\n494 Main Street\nMonroe
URL:https://friendsofnewtownseniors.org/event/fons-september-social-3/
LOCATION:CT
CATEGORIES:Community,Food,Fun & Games,Monthly Social
ORGANIZER;CN="Friends of Newtown Seniors Inc.":MAILTO:info@friendsofnewtownseniors.org
END:VEVENT
BEGIN:VEVENT
DTSTART;TZID=America/New_York:20250730T170000
DTEND;TZID=America/New_York:20250730T183000
DTSTAMP:20260422T204806
CREATED:20250718T163456Z
LAST-MODIFIED:20250718T163520Z
UID:2769-1753894800-1753900200@friendsofnewtownseniors.org
SUMMARY:FONS July Social
DESCRIPTION:Join other seniors for dinner and conversation! Please RSVP to Janice Garten at 203-304-9196 to reserve a spot – please call early. \nWednesday\, July 30\n5 pm\nStation 25\n255 South Main Street\nNewtown
URL:https://friendsofnewtownseniors.org/event/fons-july-social-3/
LOCATION:Station 25\, 255 South Main Street\, Newtown
CATEGORIES:Community,Food,Monthly Social
ORGANIZER;CN="Friends of Newtown Seniors Inc.":MAILTO:info@friendsofnewtownseniors.org
END:VEVENT
BEGIN:VEVENT
DTSTART;TZID=America/New_York:20250625T170000
DTEND;TZID=America/New_York:20250625T183000
DTSTAMP:20260422T204806
CREATED:20250614T223210Z
LAST-MODIFIED:20250614T223210Z
UID:2720-1750870800-1750876200@friendsofnewtownseniors.org
SUMMARY:FONS June Social
DESCRIPTION:Join other seniors for dinner and conversation! Please RSVP to Janice Garten at 203-304-9196 to reserve a spot – please call early. \nWednesday\, June 25\n5 pm\nDel Primo\n450 Federal Road\nBrookfield
URL:https://friendsofnewtownseniors.org/event/fons-june-social-2/
LOCATION:CT
CATEGORIES:Monthly Social
ORGANIZER;CN="Friends of Newtown Seniors Inc.":MAILTO:info@friendsofnewtownseniors.org
END:VEVENT
BEGIN:VEVENT
DTSTART;TZID=America/New_York:20250528T170000
DTEND;TZID=America/New_York:20250528T183000
DTSTAMP:20260422T204806
CREATED:20250516T184706Z
LAST-MODIFIED:20250516T184713Z
UID:2654-1748451600-1748457000@friendsofnewtownseniors.org
SUMMARY:FONS May Social
DESCRIPTION:Join other seniors for dinner and conversation!  \nPlease RSVP to Janice Garten at 203-304-9196 to reserve a spot – please call early. \nWednesday\, May 28\n5 pm\nMonroe Social\n494 Main Street\nMonroe
URL:https://friendsofnewtownseniors.org/event/fons-may-social-4/
LOCATION:Monroe Social\, 494 Main Street\, Monroe\, CT
CATEGORIES:Monthly Social
ORGANIZER;CN="Friends of Newtown Seniors Inc.":MAILTO:info@friendsofnewtownseniors.org
END:VEVENT
BEGIN:VEVENT
DTSTART;TZID=America/New_York:20250430T170000
DTEND;TZID=America/New_York:20250430T183000
DTSTAMP:20260422T204806
CREATED:20250416T210024Z
LAST-MODIFIED:20250416T210024Z
UID:2620-1746032400-1746037800@friendsofnewtownseniors.org
SUMMARY:FONS April Social
DESCRIPTION:Join other seniors for dinner and conversation! Please RSVP to Janice Garten at 203-304-9196 to reserve a spot – please call early. \nWednesday\, April 30\nDinner at 5 pm\nCover Two\, Church Hill Rd\, Sandy Hook
URL:https://friendsofnewtownseniors.org/event/fons-april-social-3/
LOCATION:Cover Two\, 100 Church Hill Road\, Sandy Hook\, CT\, 064782
CATEGORIES:Community,Food,Monthly Social
ORGANIZER;CN="Friends of Newtown Seniors Inc.":MAILTO:info@friendsofnewtownseniors.org
END:VEVENT
BEGIN:VEVENT
DTSTART;TZID=America/New_York:20250326T170000
DTEND;TZID=America/New_York:20250326T183000
DTSTAMP:20260422T204806
CREATED:20250310T233830Z
LAST-MODIFIED:20250310T233856Z
UID:2406-1743008400-1743013800@friendsofnewtownseniors.org
SUMMARY:FONS March Social
DESCRIPTION:Join other seniors for dinner and conversation! Please RSVP to Janice Garten at 203-304-9196 to reserve a spot – please call early. \nWednesday\, March 26\nDinner at 5 pm  \nFarmhouse Restaurant\n43 S. Main Street\nNewtown
URL:https://friendsofnewtownseniors.org/event/fons-march-social-3/
LOCATION:Farmhouse Restaurant\, 43. South Main Street\, Newtown\, Connecticut\, 06470
CATEGORIES:Monthly Social
ORGANIZER;CN="Friends of Newtown Seniors Inc.":MAILTO:info@friendsofnewtownseniors.org
END:VEVENT
BEGIN:VEVENT
DTSTART;TZID=America/New_York:20250226T160000
DTEND;TZID=America/New_York:20250226T173000
DTSTAMP:20260422T204806
CREATED:20250209T215625Z
LAST-MODIFIED:20250209T215642Z
UID:2280-1740585600-1740591000@friendsofnewtownseniors.org
SUMMARY:FONS February Social
DESCRIPTION:Join other seniors for dinner and conversation! Please RSVP to Janice Garten at 203-304-9196 to reserve a spot – please call early. \nWednesday\, February 26\, dinner at 4 pm \nMy Place\nQueen Street\, Newtown
URL:https://friendsofnewtownseniors.org/event/fons-february-social-3/
LOCATION:My Place Restaurant\, 8 Queen Street\, Newtown\, CT
CATEGORIES:Monthly Social
ORGANIZER;CN="Friends of Newtown Seniors Inc.":MAILTO:info@friendsofnewtownseniors.org
END:VEVENT
BEGIN:VEVENT
DTSTART;TZID=America/New_York:20250129T160000
DTEND;TZID=America/New_York:20250129T173000
DTSTAMP:20260422T204806
CREATED:20250122T214224Z
LAST-MODIFIED:20250122T214224Z
UID:2239-1738166400-1738171800@friendsofnewtownseniors.org
SUMMARY:FONS January Social
DESCRIPTION:Join other seniors for dinner and conversation! Please RSVP to Janice Garten at 203-304-9196 to reserve a spot – please call early. \nWednesday\, January 29\nDinner at 4 pm\nFarmhouse\n43 S. Main Street\nNewtown
URL:https://friendsofnewtownseniors.org/event/fons-january-social-2/
LOCATION:Barnwood\, 5 Queen Street\, Newtown\, CT\, 06470\, United States
CATEGORIES:Food,Monthly Social
ORGANIZER;CN="Friends of Newtown Seniors Inc.":MAILTO:info@friendsofnewtownseniors.org
END:VEVENT
BEGIN:VEVENT
DTSTART;TZID=America/New_York:20241120T160000
DTEND;TZID=America/New_York:20241120T180000
DTSTAMP:20260422T204806
CREATED:20241106T223003Z
LAST-MODIFIED:20241106T223031Z
UID:2136-1732118400-1732125600@friendsofnewtownseniors.org
SUMMARY:FONS November Social
DESCRIPTION:Please note the new time. Join other seniors for dinner and conversation! Please RSVP to Janice Garten at 203-304-9196 to reserve a spot – please call early. \nWednesday\, November 20\nDinner at 4 pm \nDel Primo\n450 Federal Road\nBrookfield
URL:https://friendsofnewtownseniors.org/event/fons-november-social-2/
LOCATION:CT
CATEGORIES:Monthly Social
ORGANIZER;CN="Friends of Newtown Seniors Inc.":MAILTO:info@friendsofnewtownseniors.org
END:VEVENT
BEGIN:VEVENT
DTSTART;TZID=America/New_York:20241030T160000
DTEND;TZID=America/New_York:20241030T170000
DTSTAMP:20260422T204806
CREATED:20241016T202604Z
LAST-MODIFIED:20241016T202604Z
UID:2088-1730304000-1730307600@friendsofnewtownseniors.org
SUMMARY:FONS October Social
DESCRIPTION:Please note the new time. Join other seniors for dinner and conversation!\nPlease RSVP to Janice Garten at 203-304-9196 to reserve a spot – please call early. \nWednesday\, October 30\nDinner at 4 pm\nCover Two\n100 Church Hill Road\nSandy Hook\, CT
URL:https://friendsofnewtownseniors.org/event/fons-october-social-3/
LOCATION:Cover Two\, 100 Church Hill Road\, Sandy Hook\, CT\, 064782
CATEGORIES:Monthly Social
ORGANIZER;CN="Friends of Newtown Seniors Inc.":MAILTO:info@friendsofnewtownseniors.org
END:VEVENT
BEGIN:VEVENT
DTSTART;TZID=America/New_York:20240925T170000
DTEND;TZID=America/New_York:20240925T183000
DTSTAMP:20260422T204806
CREATED:20240915T234905Z
LAST-MODIFIED:20240915T234933Z
UID:2051-1727283600-1727289000@friendsofnewtownseniors.org
SUMMARY:FONS September Social
DESCRIPTION:Join other seniors for dinner and conversation! Please RSVP to Janice Garten at 203-304-9196 to reserve a spot – please call early. \nWednesday\, September 25\nDinner at 5 pm at Testo’s (former Roberto’s)\n505 Main Street\nMonroe
URL:https://friendsofnewtownseniors.org/event/fons-september-social-2/
LOCATION:CT
CATEGORIES:Monthly Social
ORGANIZER;CN="Friends of Newtown Seniors Inc.":MAILTO:info@friendsofnewtownseniors.org
END:VEVENT
BEGIN:VEVENT
DTSTART;TZID=America/New_York:20240828T170000
DTEND;TZID=America/New_York:20240828T190000
DTSTAMP:20260422T204806
CREATED:20240815T192641Z
LAST-MODIFIED:20240815T192641Z
UID:2023-1724864400-1724871600@friendsofnewtownseniors.org
SUMMARY:FONS August Social
DESCRIPTION:Join other seniors for dinner and conversation! Please note there is a change to the RSVP process for August only. Please RSVP to Cathie Billings at 203-426-4362 to reserve a spot – please call early. \nWednesday\, August 28\nDinner at 5 pm\nSal E Pepe\n97 S. Main Street\nNewtown.
URL:https://friendsofnewtownseniors.org/event/fons-august-social-3/
LOCATION:Sal e Pepe\, 97 South Main Street\, Newtown\, CT\, 06470
CATEGORIES:Monthly Social
ORGANIZER;CN="Friends of Newtown Seniors Inc.":MAILTO:info@friendsofnewtownseniors.org
END:VEVENT
BEGIN:VEVENT
DTSTART;TZID=America/New_York:20240731T170000
DTEND;TZID=America/New_York:20240731T183000
DTSTAMP:20260422T204806
CREATED:20240719T151436Z
LAST-MODIFIED:20240719T151436Z
UID:1928-1722445200-1722450600@friendsofnewtownseniors.org
SUMMARY:FONS July Social
DESCRIPTION:Join other seniors for dinner and conversation! Please RSVP to Janice Garten at 203-304-9196 to reserve a spot – please call early. \nWednesday\, July 31\nDinner at 5 pm\nMy Place\nQueen Street\nNewtown
URL:https://friendsofnewtownseniors.org/event/fons-july-social-2/
LOCATION:My Place Restaurant\, 8 Queen Street\, Newtown\, CT
CATEGORIES:Community,Food,Monthly Social
ORGANIZER;CN="Friends of Newtown Seniors Inc.":MAILTO:info@friendsofnewtownseniors.org
END:VEVENT
BEGIN:VEVENT
DTSTART;TZID=America/New_York:20240626T170000
DTEND;TZID=America/New_York:20240626T183000
DTSTAMP:20260422T204806
CREATED:20240621T123711Z
LAST-MODIFIED:20240621T123711Z
UID:1888-1719421200-1719426600@friendsofnewtownseniors.org
SUMMARY:FONS June Social
DESCRIPTION:Wednesday\, June 26\, dinner at 5 pm at HillTop Kitchen (formerly The Villa) at 4 Riverside Road\, Sandy Hook. Join other seniors for dinner and conversation!  \nPlease RSVP to Janice Garten at 203-304-9196 to reserve a spot.
URL:https://friendsofnewtownseniors.org/event/fons-june-social/
LOCATION:CT
CATEGORIES:Monthly Social
ORGANIZER;CN="Friends of Newtown Seniors Inc.":MAILTO:info@friendsofnewtownseniors.org
END:VEVENT
BEGIN:VEVENT
DTSTART;TZID=America/New_York:20240529T170000
DTEND;TZID=America/New_York:20240529T190000
DTSTAMP:20260422T204806
CREATED:20240501T142555Z
LAST-MODIFIED:20240501T142555Z
UID:1847-1717002000-1717009200@friendsofnewtownseniors.org
SUMMARY:FONS May Social
DESCRIPTION:Join other seniors for dinner and conversation! Please RSVP to Janice Garten at 203-304-9196 to reserve a spot. \nPulcinella Restaurant\n640 Federal Road\nBrookfield.  \nWednesday\, May 29\nDinner at 5 pm
URL:https://friendsofnewtownseniors.org/event/fons-may-social-3/
LOCATION:CT
CATEGORIES:Monthly Social
ORGANIZER;CN="Friends of Newtown Seniors Inc.":MAILTO:info@friendsofnewtownseniors.org
END:VEVENT
BEGIN:VEVENT
DTSTART;TZID=America/New_York:20240504T200000
DTEND;TZID=America/New_York:20240504T220000
DTSTAMP:20260422T204806
CREATED:20240501T125819Z
LAST-MODIFIED:20240501T130539Z
UID:1835-1714852800-1714860000@friendsofnewtownseniors.org
SUMMARY:Town Players of Newtown Comedy Night
DESCRIPTION:Comedy Night\nMay 4\, 8 pm  \nNewtown Town Players Little Theater\n18 Orchard Hill Road\nNewtown  \nClick here for more information.
URL:https://friendsofnewtownseniors.org/event/fons-may-social-2/
LOCATION:CT
CATEGORIES:Monthly Social
END:VEVENT
BEGIN:VEVENT
DTSTART;TZID=America/New_York:20240424T170000
DTEND;TZID=America/New_York:20240424T190000
DTSTAMP:20260422T204806
CREATED:20240417T142429Z
LAST-MODIFIED:20240417T142429Z
UID:1826-1713978000-1713985200@friendsofnewtownseniors.org
SUMMARY:FONS April Social
DESCRIPTION:Please note the new time. Join other seniors for dinner and conversation!\nPlease RSVP to Janice Garten at 203-304-9196 to reserve a spot. \nWednesday\, April 24\nDinner at 5 pm \nMonroe Social\n494 Main Street\nMonroe
URL:https://friendsofnewtownseniors.org/event/fons-april-social-2/
LOCATION:CT
CATEGORIES:Monthly Social
ORGANIZER;CN="Friends of Newtown Seniors Inc.":MAILTO:info@friendsofnewtownseniors.org
END:VEVENT
END:VCALENDAR