BEGIN:VCALENDAR
VERSION:2.0
PRODID:-//Friends of Newtown Seniors - ECPv6.15.20//NONSGML v1.0//EN
CALSCALE:GREGORIAN
METHOD:PUBLISH
X-WR-CALNAME:Friends of Newtown Seniors
X-ORIGINAL-URL:https://friendsofnewtownseniors.org
X-WR-CALDESC:Events for Friends of Newtown Seniors
REFRESH-INTERVAL;VALUE=DURATION:PT1H
X-Robots-Tag:noindex
X-PUBLISHED-TTL:PT1H
BEGIN:VTIMEZONE
TZID:America/New_York
BEGIN:DAYLIGHT
TZOFFSETFROM:-0500
TZOFFSETTO:-0400
TZNAME:EDT
DTSTART:20240310T070000
END:DAYLIGHT
BEGIN:STANDARD
TZOFFSETFROM:-0400
TZOFFSETTO:-0500
TZNAME:EST
DTSTART:20241103T060000
END:STANDARD
BEGIN:DAYLIGHT
TZOFFSETFROM:-0500
TZOFFSETTO:-0400
TZNAME:EDT
DTSTART:20250309T070000
END:DAYLIGHT
BEGIN:STANDARD
TZOFFSETFROM:-0400
TZOFFSETTO:-0500
TZNAME:EST
DTSTART:20251102T060000
END:STANDARD
BEGIN:DAYLIGHT
TZOFFSETFROM:-0500
TZOFFSETTO:-0400
TZNAME:EDT
DTSTART:20260308T070000
END:DAYLIGHT
BEGIN:STANDARD
TZOFFSETFROM:-0400
TZOFFSETTO:-0500
TZNAME:EST
DTSTART:20261101T060000
END:STANDARD
END:VTIMEZONE
BEGIN:VEVENT
DTSTART;TZID=America/New_York:20250925T153000
DTEND;TZID=America/New_York:20250925T170000
DTSTAMP:20260423T085336
CREATED:20250915T165947Z
LAST-MODIFIED:20250915T165958Z
UID:2877-1758814200-1758819600@friendsofnewtownseniors.org
SUMMARY:FONS September Roundtable
DESCRIPTION:Join the discussion of senior life in Newtown. All are welcome to attend.  This month’s speakers will be Jim Taylor\, Editor\, and Shannon Hicks\, Managing Editor\, of The Newtown Bee.  \nFor more information\, please contact Ned Simpson at neds2124@gmail.com.  \nThursday\, September 25\, at 3:30 pm\nNewtown Senior Center\n8 Simpson Street\nNewtown
URL:https://friendsofnewtownseniors.org/event/fons-september-roundtable/
LOCATION:Newtown Senior Center\, 8 Simpson\, Newtown\, CT\, 06470\, United States
CATEGORIES:Educational,Monthly Roundtable
ORGANIZER;CN="Friends of Newtown Seniors Inc.":MAILTO:info@friendsofnewtownseniors.org
END:VEVENT
END:VCALENDAR