BEGIN:VCALENDAR
VERSION:2.0
PRODID:-//Friends of Newtown Seniors - ECPv6.15.20//NONSGML v1.0//EN
CALSCALE:GREGORIAN
METHOD:PUBLISH
X-WR-CALNAME:Friends of Newtown Seniors
X-ORIGINAL-URL:https://friendsofnewtownseniors.org
X-WR-CALDESC:Events for Friends of Newtown Seniors
REFRESH-INTERVAL;VALUE=DURATION:PT1H
X-Robots-Tag:noindex
X-PUBLISHED-TTL:PT1H
BEGIN:VTIMEZONE
TZID:America/New_York
BEGIN:DAYLIGHT
TZOFFSETFROM:-0500
TZOFFSETTO:-0400
TZNAME:EDT
DTSTART:20240310T070000
END:DAYLIGHT
BEGIN:STANDARD
TZOFFSETFROM:-0400
TZOFFSETTO:-0500
TZNAME:EST
DTSTART:20241103T060000
END:STANDARD
BEGIN:DAYLIGHT
TZOFFSETFROM:-0500
TZOFFSETTO:-0400
TZNAME:EDT
DTSTART:20250309T070000
END:DAYLIGHT
BEGIN:STANDARD
TZOFFSETFROM:-0400
TZOFFSETTO:-0500
TZNAME:EST
DTSTART:20251102T060000
END:STANDARD
BEGIN:DAYLIGHT
TZOFFSETFROM:-0500
TZOFFSETTO:-0400
TZNAME:EDT
DTSTART:20260308T070000
END:DAYLIGHT
BEGIN:STANDARD
TZOFFSETFROM:-0400
TZOFFSETTO:-0500
TZNAME:EST
DTSTART:20261101T060000
END:STANDARD
END:VTIMEZONE
BEGIN:VEVENT
DTSTART;TZID=America/New_York:20250930T120000
DTEND;TZID=America/New_York:20250930T120000
DTSTAMP:20260423T094354
CREATED:20250915T171222Z
LAST-MODIFIED:20250915T171310Z
UID:2887-1759233600-1759233600@friendsofnewtownseniors.org
SUMMARY:C.H. Booth Library Gold Fundraiser
DESCRIPTION:Please join us! \nFor this fundraiser\, your checkbook stays home and YOU get the money. The price of gold is at a record high. Sell your broken necklaces\, single earrings\, unwanted jewelry\, coins\, and more. Bob “The Gold Man” buys your gold and other valuables on the spot and hands you a check! The C.H. Booth Library benefits with every transaction. \nQuestions? Email bob@libertygoldct.org \nTuesday\, September 30\, from 12 – 7 pm\nWednesday\, October 1\, from 10 am – 4 pm  \nNewtown Community Center\n8 Primrose Street\nNewtown
URL:https://friendsofnewtownseniors.org/event/c-h-booth-library-gold-fundraiser/
LOCATION:Newtown Community Center\, 8 Simpson Street\, Newtown\, CT\, 06470
CATEGORIES:C. H. Booth Library,Community,Fundraiser
END:VEVENT
BEGIN:VEVENT
DTSTART;TZID=America/New_York:20251019T120000
DTEND;TZID=America/New_York:20251019T140000
DTSTAMP:20260423T094354
CREATED:20250930T220657Z
LAST-MODIFIED:20250930T220657Z
UID:2906-1760875200-1760882400@friendsofnewtownseniors.org
SUMMARY:Friends of the C.H. Booth Library Fall Donation Day
DESCRIPTION:An abbreviated Fall Book Donation Day is set for Sunday\, October 19 —rain or shine—from noon to 2 pm at the Blue Building\, the Friends’ temporary donation site at 17 Old Farm Road in Newtown (next to the Dog Park). The Friends have shifted donation operations to this location because of HVAC work underway at the Booth Library. \nJust like previous Donation Days held at the Library\, donors can drive up to the front of the Blue Building where volunteers will help unload their vehicles and provide tax receipts. To expedite your drop-off\, please pack your items to be donated in bags or boxes you don’t need returned. \nVisit boothbooksale.org to read our donation guidelines. You can also contact the Friends at boothbooksale@yahoo.com.
URL:https://friendsofnewtownseniors.org/event/friends-of-the-c-h-booth-library-fall-donation-day/
LOCATION:CT
CATEGORIES:C. H. Booth Library,Community,Fundraiser
END:VEVENT
BEGIN:VEVENT
DTSTART;TZID=America/New_York:20251026T100000
DTEND;TZID=America/New_York:20251026T143000
DTSTAMP:20260423T094354
CREATED:20251015T192137Z
LAST-MODIFIED:20251015T192137Z
UID:2928-1761472800-1761489000@friendsofnewtownseniors.org
SUMMARY:Lions Club Model Train Show
DESCRIPTION:The Newtown Lions Club is having a Model Train Show Event to benefit Childhood Cancer Research onThis event is fun for all ages from 1 to 101. Come see what Model Railroading is all about. Learning clinics for all ages of modelers. Win a Lego Model Railroad along with other door prizes. \nAlso added to this year’s event will be a Halloween Costume Parade during the 2025 Train Show. The parade will be a fun festive event for children ages 12 and under to show off their costumes\, participate in a community celebration\, and have a chance to win prizes! All participants will leave with a goodie bag. Come join us for a great day with a nostalgic look back in time at our railroads with this exciting Model Railroad exhibition. \nSunday\, October 26\n10 am to 2:30 pm\nNewtown Community Center\n8 Simpson St. in Newtown. \nAdmission is $10 for adults\, children – $5\, under 9 are free and families (three or more) – $25. Advance ticket purchase is $8 – click here to purchase tickets.
URL:https://friendsofnewtownseniors.org/event/lions-club-model-train-show/
LOCATION:Newtown Community Center\, 8 Simpson Street\, Newtown\, CT\, 06470
CATEGORIES:Community,Fun & Games,Fundraiser
END:VEVENT
BEGIN:VEVENT
DTSTART;TZID=America/New_York:20251026T120000
DTEND;TZID=America/New_York:20251026T160000
DTSTAMP:20260423T094354
CREATED:20251015T192424Z
LAST-MODIFIED:20251015T192424Z
UID:2932-1761480000-1761494400@friendsofnewtownseniors.org
SUMMARY:Newtown Historical Society's October Open House
DESCRIPTION:18th Century Barn Tour at the Matthew Curtis House. Join us as Tom Evans\, archaeologist and long-time Society member and volunteer\, guides us through the Curtis House barn and its unique collection of colonial artifacts. As always\, our docents will be available for tours of the main house and museum. Refreshments will be served. \nSpecial Note: During our October events\, we will be collecting candy donations for our Halloween trick-or- treaters! \nVisit www.newtownhistory.org for more information. \nSunday\, October 26\n12 pm – 4 pm\nMatthew Curtis House
URL:https://friendsofnewtownseniors.org/event/newtown-historical-societys-october-open-house/
LOCATION:Matthew Curtiss House\, 44 Main Street\, Newtown\, CT\, 06470
CATEGORIES:Community,Educational,Fun & Games,Fundraiser
ORGANIZER;CN="Newtown Historical Society":MAILTO:info@newtownhistory.org
END:VEVENT
END:VCALENDAR