BEGIN:VCALENDAR
VERSION:2.0
PRODID:-//Friends of Newtown Seniors - ECPv6.15.20//NONSGML v1.0//EN
CALSCALE:GREGORIAN
METHOD:PUBLISH
X-ORIGINAL-URL:https://friendsofnewtownseniors.org
X-WR-CALDESC:Events for Friends of Newtown Seniors
REFRESH-INTERVAL;VALUE=DURATION:PT1H
X-Robots-Tag:noindex
X-PUBLISHED-TTL:PT1H
BEGIN:VTIMEZONE
TZID:America/New_York
BEGIN:DAYLIGHT
TZOFFSETFROM:-0500
TZOFFSETTO:-0400
TZNAME:EDT
DTSTART:20250309T070000
END:DAYLIGHT
BEGIN:STANDARD
TZOFFSETFROM:-0400
TZOFFSETTO:-0500
TZNAME:EST
DTSTART:20251102T060000
END:STANDARD
BEGIN:DAYLIGHT
TZOFFSETFROM:-0500
TZOFFSETTO:-0400
TZNAME:EDT
DTSTART:20260308T070000
END:DAYLIGHT
BEGIN:STANDARD
TZOFFSETFROM:-0400
TZOFFSETTO:-0500
TZNAME:EST
DTSTART:20261101T060000
END:STANDARD
BEGIN:DAYLIGHT
TZOFFSETFROM:-0500
TZOFFSETTO:-0400
TZNAME:EDT
DTSTART:20270314T070000
END:DAYLIGHT
BEGIN:STANDARD
TZOFFSETFROM:-0400
TZOFFSETTO:-0500
TZNAME:EST
DTSTART:20271107T060000
END:STANDARD
END:VTIMEZONE
BEGIN:VEVENT
DTSTART;TZID=America/New_York:20260128T160000
DTEND;TZID=America/New_York:20260128T173000
DTSTAMP:20260423T015211
CREATED:20260116T153505Z
LAST-MODIFIED:20260116T153525Z
UID:3002-1769616000-1769621400@friendsofnewtownseniors.org
SUMMARY:FONS January Social
DESCRIPTION:Join other seniors for dinner and conversation! Please RSVP to Janice Garten at 203-304-9196 to reserve a spot. PLEASE NOTE THE NEW TIME. \nWednesday\, January 28\, 4 pm \nMarygold’s\nMain Street\nNewtown
URL:https://friendsofnewtownseniors.org/event/fons-january-social-3/
LOCATION:Marygold’s\, 19 Main Street\, Newtown\, CT
CATEGORIES:Food,Monthly Social
ORGANIZER;CN="Friends of Newtown Seniors Inc.":MAILTO:info@friendsofnewtownseniors.org
END:VEVENT
END:VCALENDAR