BEGIN:VCALENDAR
VERSION:2.0
PRODID:-//Friends of Newtown Seniors - ECPv6.15.20//NONSGML v1.0//EN
CALSCALE:GREGORIAN
METHOD:PUBLISH
X-WR-CALNAME:Friends of Newtown Seniors
X-ORIGINAL-URL:https://friendsofnewtownseniors.org
X-WR-CALDESC:Events for Friends of Newtown Seniors
REFRESH-INTERVAL;VALUE=DURATION:PT1H
X-Robots-Tag:noindex
X-PUBLISHED-TTL:PT1H
BEGIN:VTIMEZONE
TZID:America/New_York
BEGIN:DAYLIGHT
TZOFFSETFROM:-0500
TZOFFSETTO:-0400
TZNAME:EDT
DTSTART:20230312T070000
END:DAYLIGHT
BEGIN:STANDARD
TZOFFSETFROM:-0400
TZOFFSETTO:-0500
TZNAME:EST
DTSTART:20231105T060000
END:STANDARD
BEGIN:DAYLIGHT
TZOFFSETFROM:-0500
TZOFFSETTO:-0400
TZNAME:EDT
DTSTART:20240310T070000
END:DAYLIGHT
BEGIN:STANDARD
TZOFFSETFROM:-0400
TZOFFSETTO:-0500
TZNAME:EST
DTSTART:20241103T060000
END:STANDARD
BEGIN:DAYLIGHT
TZOFFSETFROM:-0500
TZOFFSETTO:-0400
TZNAME:EDT
DTSTART:20250309T070000
END:DAYLIGHT
BEGIN:STANDARD
TZOFFSETFROM:-0400
TZOFFSETTO:-0500
TZNAME:EST
DTSTART:20251102T060000
END:STANDARD
BEGIN:DAYLIGHT
TZOFFSETFROM:-0500
TZOFFSETTO:-0400
TZNAME:EDT
DTSTART:20260308T070000
END:DAYLIGHT
BEGIN:STANDARD
TZOFFSETFROM:-0400
TZOFFSETTO:-0500
TZNAME:EST
DTSTART:20261101T060000
END:STANDARD
END:VTIMEZONE
BEGIN:VEVENT
DTSTART;TZID=America/New_York:20250401T173000
DTEND;TZID=America/New_York:20250401T190000
DTSTAMP:20260422T225549
CREATED:20250317T170111Z
LAST-MODIFIED:20250317T170438Z
UID:2423-1743528600-1743534000@friendsofnewtownseniors.org
SUMMARY:TIMELESS NEWTOWN: Attitudes toward ageing and why they matter
DESCRIPTION:Our panel represents a cross section of age groups and backgrounds and promises to be a lively and informative session which we hope will stimulate conversations concerning the universal process of aging and how positive attitudes can stimulate a paradigm shift in the way all of us at any age view aging. \nModerator:\nPeter Schwarz\, Vice President of FONS \nOur Panel: \n\nJohn Boccuzzi – Retired educator with 41 years of experience and current President of FONS\nDr. Brianna Garrison – Researcher and Professor of Gerontological Social Worker at Southern CT State University\nMarissa Greene – Master’s Student of Gerontological Social Work at Southern CT State University\nAnn (Nancy) Rhodes – APRN-BC\, Author and consultant on ageing and caregiving\n\nFree Timeless Newtown Event REGISTER HERE \nNewtown Senior Center\n8 Simpson Street\nNewtown\, CT 06470\nTuesday\, April 1\, 5:30-7pm
URL:https://friendsofnewtownseniors.org/event/attitudes-toward-ageing-and-why-they-matter/
LOCATION:Newtown Senior Center\, 8 Simpson\, Newtown\, CT\, 06470\, United States
CATEGORIES:Community,Educational
END:VEVENT
BEGIN:VEVENT
DTSTART;TZID=America/New_York:20250323T120000
DTEND;TZID=America/New_York:20250323T160000
DTSTAMP:20260422T225549
CREATED:20250321T023018Z
LAST-MODIFIED:20250321T023018Z
UID:2548-1742731200-1742745600@friendsofnewtownseniors.org
SUMMARY:Newtown Historical Society's March Open House
DESCRIPTION:Master Shoe Maker Demonstration\nJoin us for a demonstration by Andrew Rowland\, who will guide us through a day in the life of a cordwainer\, or shoe maker. As always\, our docents will be available for tours of our historic home and museum\, Curtis House. Refreshments will be served. The program is free but donations are appreciated! \nVisit www.newtownhistory.org for more information. \nNewtown Historical Society’s March Open House\nSunday\, March 23\, 12 pm-4 pm\nMatthew Curtis House\n44 Main Street\nNewtown
URL:https://friendsofnewtownseniors.org/event/newtown-historical-societys-march-open-house/
LOCATION:Matthew Curtiss House\, 44 Main Street\, Newtown\, CT\, 06470
CATEGORIES:Community,Educational,Presentations and Forums
ORGANIZER;CN="Newtown Historical Society":MAILTO:info@newtownhistory.org
END:VEVENT
BEGIN:VEVENT
DTSTART;TZID=America/New_York:20250306T140000
DTEND;TZID=America/New_York:20250306T160000
DTSTAMP:20260422T225549
CREATED:20250224T024602Z
LAST-MODIFIED:20250224T024632Z
UID:2330-1741269600-1741276800@friendsofnewtownseniors.org
SUMMARY:Design and Create Your Own Pendant Necklace - C. H. Booth Library
DESCRIPTION:Design\, create and go home with your very own handmade necklace. All materials are provided. This event is for individuals in grade 9 to adults. Please register here in advance. \nC. H. Booth Library\nMeeting Room\nThursday\, March 6 at 2:00 pm
URL:https://friendsofnewtownseniors.org/event/design-and-create-your-own-pendant-necklace-c-h-booth-library/
LOCATION:C. H. Booth Library\, 25 Main Street\, Newtown\, CT\, 06470\, United States
CATEGORIES:Educational,Fun & Games,Workshops
END:VEVENT
BEGIN:VEVENT
DTSTART;TZID=America/New_York:20250304T130000
DTEND;TZID=America/New_York:20250304T150000
DTSTAMP:20260422T225549
CREATED:20250223T163945Z
LAST-MODIFIED:20250223T163945Z
UID:2297-1741093200-1741100400@friendsofnewtownseniors.org
SUMMARY:"Aging Powerfully" Follow Up Presentation
DESCRIPTION:We have compiled thoughts\, comments\, and feedback from the first session.  A summary of the input will be provided to help guide the discussion. Please come prepared to share your reactions on aging\, ageism\, defining what community\, purpose\, and structure mean in your life\, and what future programming and action you would like to see. We are open to any issue\, and we want to hear what you have to say. We hope to see both new and repeat participants at this interesting\, fun\, and lively discussion. Senior Center members can register online through myactivecenter.com; all others can call the Senior Center at 203-270-4310 to register so we know how many to prepare for. Contact info@friendsofnewtownseniors.org if you have any questions.  \nTuesday\, March 4\n1 pm\nNewtown Senior Center
URL:https://friendsofnewtownseniors.org/event/aging-powerfully-follow-up-presentation/
LOCATION:Newtown Senior Center\, 8 Simpson\, Newtown\, CT\, 06470\, United States
CATEGORIES:Community,Educational
ORGANIZER;CN="Friends of Newtown Seniors Inc.":MAILTO:info@friendsofnewtownseniors.org
END:VEVENT
BEGIN:VEVENT
DTSTART;TZID=America/New_York:20250303T180000
DTEND;TZID=America/New_York:20250303T200000
DTSTAMP:20260422T225549
CREATED:20250224T024324Z
LAST-MODIFIED:20250224T024324Z
UID:2328-1741024800-1741032000@friendsofnewtownseniors.org
SUMMARY:Cookbook Club: Simple: Effortless Food\, Big Flavors by Diana Henry
DESCRIPTION:Potluck and discussion.  Please register here in advance. \nC.H. Booth Library\nMeeting Room \nMonday\, March 3 at 6:00 pm
URL:https://friendsofnewtownseniors.org/event/cookbook-club-simple-effortless-food-big-flavors-by-diana-henry-2/
LOCATION:C. H. Booth Library\, 25 Main Street\, Newtown\, CT\, 06470\, United States
CATEGORIES:Community,Educational,Food
END:VEVENT
BEGIN:VEVENT
DTSTART;TZID=America/New_York:20250223T140000
DTEND;TZID=America/New_York:20250223T160000
DTSTAMP:20260422T225549
CREATED:20250223T164420Z
LAST-MODIFIED:20250223T164420Z
UID:2302-1740319200-1740326400@friendsofnewtownseniors.org
SUMMARY:Protect Our Pollinators Presents: Neonics High Harm and Low Benefit
DESCRIPTION:Presentations by The Connecticut Audubon Society\, Pollinator Pathway\, and Protect Our Pollinators. \nJoin us for a must-see program featuring experts who will share shocking information about neonics\, a powerful\, widely used class of pesticides–and their effects on insects\, birds\, aquatic wildlife\, soil\, and humans. Learn about ways to protect your family and wildlife\, and about proposed legislation focusing on non beneficial uses of neonics in Connecticut. \nSunday\, February 23 at 2:00 pm\nMeeting Room\nC.H. Booth Library
URL:https://friendsofnewtownseniors.org/event/protect-our-pollinators-presents-neonics-high-harm-and-low-benefit/
LOCATION:C. H. Booth Library\, 25 Main Street\, Newtown\, CT\, 06470\, United States
CATEGORIES:Community,Educational
END:VEVENT
BEGIN:VEVENT
DTSTART;TZID=America/New_York:20250213T180000
DTEND;TZID=America/New_York:20250213T200000
DTSTAMP:20260422T225549
CREATED:20250209T215834Z
LAST-MODIFIED:20250209T220003Z
UID:2282-1739469600-1739476800@friendsofnewtownseniors.org
SUMMARY:Social Security Education Workshop
DESCRIPTION:Understanding Your Social Security Benefit Options  \nLaura Lehrhaupt\, Certified Financial Fiduciary\, will present a free educational workshop covering one of the most relevant and challenging financial topics Americans face today. Seating is limited. Please register at fiduciaryeducators.org/events or call 844-230-7881. \nThursday\, February 13\, 6 pm\nNewtown Community Center
URL:https://friendsofnewtownseniors.org/event/social-security-education-workshop/
LOCATION:Newtown Community Center\, 8 Simpson Street\, Newtown\, CT\, 06470
CATEGORIES:Community,Educational,Presentations and Forums
ORGANIZER;CN="Friends of Newtown Seniors Inc.":MAILTO:info@friendsofnewtownseniors.org
END:VEVENT
BEGIN:VEVENT
DTSTART;TZID=America/New_York:20250210T080000
DTEND;TZID=America/New_York:20250210T170000
DTSTAMP:20260422T225549
CREATED:20250130T173845Z
LAST-MODIFIED:20250130T174036Z
UID:2269-1739174400-1739206800@friendsofnewtownseniors.org
SUMMARY:Goldstone Caregiver Center Programs-Dates Vary
DESCRIPTION:The Goldstone Caregiver Center at Danbury Hospital invites you to attend their programs and events regardless of who you care for or where you are located. While all programs have traditionally taken place at the Goldstone Caregiver Center at Danbury Hospital\, they are currently providing programs via Zoom.  \nPlease click here for more information on their recorded programs and upcoming programs and events.
URL:https://friendsofnewtownseniors.org/event/goldstone-caregiver-center-programs/
LOCATION:The Goldstone Caregiver Center at Danbury Hospital
CATEGORIES:Community,Educational
END:VEVENT
BEGIN:VEVENT
DTSTART;TZID=America/New_York:20250203T180000
DTEND;TZID=America/New_York:20250203T200000
DTSTAMP:20260422T225549
CREATED:20250122T220557Z
LAST-MODIFIED:20250122T220606Z
UID:2252-1738605600-1738612800@friendsofnewtownseniors.org
SUMMARY:C. H. Booth Library - Cookbook Club
DESCRIPTION:This book club is a wonderful opportunity for those who love reading\, cooking\, and food to come together\, share their dishes\, and discuss the featured cookbook. February’s title is The Rise: Black Cooks and the Soul of American Food by Marcus Samuelsson. \nTo join the event:\n1. Please register and pick up a copy of the book on the second floor of the library prior to the book club.\n2. Choose a recipe to cook and bring to the meeting. Email your choice to smerrill@chboothlibrary.org.\n3. Gather on Monday\, February 3 for a potluck and book discussion! \nMonday\, February 3\n6 pm\nMeeting Room\nC H Booth Library
URL:https://friendsofnewtownseniors.org/event/c-h-booth-library-cookbook-club/
LOCATION:C. H. Booth Library\, 25 Main Street\, Newtown\, CT\, 06470\, United States
CATEGORIES:Community,Educational,Food
END:VEVENT
BEGIN:VEVENT
DTSTART;TZID=America/New_York:20250201T100000
DTEND;TZID=America/New_York:20250201T120000
DTSTAMP:20260422T225549
CREATED:20250130T172144Z
LAST-MODIFIED:20250130T172144Z
UID:2256-1738404000-1738411200@friendsofnewtownseniors.org
SUMMARY:Retirement and Caregiving: Strategies for Success
DESCRIPTION:Are you planning for retirement or balancing caregiving responsibilities—or both? Oftentimes\, these life journeys are intertwined. Join Ann (Nancy) Rhodes\, NP and Lori Candela\, M.Ed.\, CPRC for a conversation designed to help you navigate them with clarity\, purpose\, and confidence. More information and registration here.  Registration is preferred\, but drop ins are welcome.  \nC.H. Booth Library\n25 Main Street\nNewtown\, CT  06470 \nSaturday\, February 1 from 10 am to 12 pm in the Gathering Room.
URL:https://friendsofnewtownseniors.org/event/retirement-and-caregiving-strategies-for-success/
LOCATION:C. H. Booth Library\, 25 Main Street\, Newtown\, CT\, 06470\, United States
CATEGORIES:Educational,Presentations and Forums
END:VEVENT
BEGIN:VEVENT
DTSTART;TZID=America/New_York:20250131T120000
DTEND;TZID=America/New_York:20250131T140000
DTSTAMP:20260422T225549
CREATED:20250122T214609Z
LAST-MODIFIED:20250122T214609Z
UID:2242-1738324800-1738332000@friendsofnewtownseniors.org
SUMMARY:Lunch & Learn - Where's Waldo?
DESCRIPTION:There are no strangers\, just friends you haven’t met yet. Please join us for a presentation by FONS and the Department of Human Services as we bring the issue of isolation to the forefront. The presentation will be followed by discussions as we work together to combat isolation and reach our neighbors who may be in need.  \nTo register: Contact Wendy Devereaux at the Newtown Senior Center by calling 203-270-4310 OR at wendy.devereaux@newtown-ct.gov. \nFriday\,January 31\n12 pm\nNewtown Senior Center
URL:https://friendsofnewtownseniors.org/event/lunch-learn-wheres-waldo/
LOCATION:Newtown Senior Center\, 8 Simpson\, Newtown\, CT\, 06470\, United States
CATEGORIES:Community,Educational,Presentations and Forums
ORGANIZER;CN="Friends of Newtown Seniors Inc.":MAILTO:info@friendsofnewtownseniors.org
END:VEVENT
BEGIN:VEVENT
DTSTART;TZID=America/New_York:20250129T130000
DTEND;TZID=America/New_York:20250129T143000
DTSTAMP:20260422T225549
CREATED:20250122T215723Z
LAST-MODIFIED:20250122T215723Z
UID:2248-1738155600-1738161000@friendsofnewtownseniors.org
SUMMARY:Don’t Wanna Be All By Myself
DESCRIPTION:Navigating grief and loss is an incredibly challenging experience. Join Bob Schmidt and friends for a discussion focused on coping with loneliness and the grieving process. Participants will have the opportunity to share their personal experiences of loss and explore the various ways individuals manage the accompanying feelings of isolation\, as well as the impact of grief on physical health. Together let’s learn how we can effectively navigate this profoundly challenging journey. \nWednesday\, January 29\, 1 pm\nNewtown Senior Center
URL:https://friendsofnewtownseniors.org/event/dont-wanna-be-all-by-myself/
LOCATION:Newtown Senior Center\, 8 Simpson\, Newtown\, CT\, 06470\, United States
CATEGORIES:Community,Educational,Presentations and Forums
ORGANIZER;CN="Friends of Newtown Seniors Inc.":MAILTO:info@friendsofnewtownseniors.org
END:VEVENT
BEGIN:VEVENT
DTSTART;TZID=America/New_York:20250125T130000
DTEND;TZID=America/New_York:20250125T160000
DTSTAMP:20260422T225549
CREATED:20241227T220741Z
LAST-MODIFIED:20241227T220741Z
UID:2217-1737810000-1737820800@friendsofnewtownseniors.org
SUMMARY:Global Community Engagement Day Event
DESCRIPTION:We are happy to announce an upcoming community engagement event that promises to bring together diverse organizations and individuals for an enriching experience. This is an opportunity to connect\, collaborate\, and contribute to the tapestry of our community.  \nParticipating organizations include:  \n\nFriends of Newtown Seniors\nGarden Club of Newtown\nNewtown Historical Society\nDanbury Student and Business Connection\nAmerican Legion Auxiliary\nSons of American Legion\nFriends of the C.H. Booth Library\nNewtown Cultural Arts Commission\nAgora Corp\nNewtown Lions Club\n\nDetails \n \nSaturday\, January 25\n1 pm to 4 pm\nC.H. Booth Library\, Second Floor
URL:https://friendsofnewtownseniors.org/event/global-community-engagement-day-event/
LOCATION:C. H. Booth Library\, 25 Main Street\, Newtown\, CT\, 06470\, United States
CATEGORIES:Community,Educational,Workshops
END:VEVENT
BEGIN:VEVENT
DTSTART;TZID=America/New_York:20250111T140000
DTEND;TZID=America/New_York:20250111T170000
DTSTAMP:20260422T225549
CREATED:20241227T215058Z
LAST-MODIFIED:20241227T215433Z
UID:2215-1736604000-1736614800@friendsofnewtownseniors.org
SUMMARY:Documentary Film Screening: Join or Die
DESCRIPTION:A film about why you should join a club…and why the fate of America depends on it. In this feature documentary\, follow the half-century story of America’s civic unraveling through the journey of legendary social scientist Robert Putnam\, whose groundbreaking “Bowling Alone” research into America’s decades-long decline in community connections could hold the answers to our democracy’s present crisis. This film screening is co-sponsored by the Newtown Congregational Church. \nJoin or Die official website \nSaturday\, January 11\n2 pm\nC.H. Booth Library\, Meeting Room
URL:https://friendsofnewtownseniors.org/event/documentary-film-screening-join-or-die/
LOCATION:C. H. Booth Library\, 25 Main Street\, Newtown\, CT\, 06470\, United States
CATEGORIES:Community,Educational,Presentations and Forums
END:VEVENT
BEGIN:VEVENT
DTSTART;TZID=America/New_York:20250107T080000
DTEND;TZID=America/New_York:20250121T170000
DTSTAMP:20260422T225549
CREATED:20250107T174033Z
LAST-MODIFIED:20250122T215042Z
UID:2226-1736236800-1737478800@friendsofnewtownseniors.org
SUMMARY:State Health Insurance Program (SHIP) Volunteer Opportunity
DESCRIPTION:Enjoy volunteering and taking on a new challenge? Become a certified SHIP/CHOICES counselor in our community and become an expert on all things Medicare! As a certified counselor\, you will guide your peers through their healthcare options\, helping them make informed\, unbiased decisions for healthier living. The 2025 Training Sessions start soon. Please call 203-757-5449\, ext. 4\, or 1-800-994-9422 for more information.
URL:https://friendsofnewtownseniors.org/event/state-health-insurance-program-ship-volunteer-opportunity/
LOCATION:CT
CATEGORIES:Community,Educational,Volunteer
END:VEVENT
BEGIN:VEVENT
DTSTART;TZID=America/New_York:20250106T180000
DTEND;TZID=America/New_York:20250106T200000
DTSTAMP:20260422T225549
CREATED:20241227T214730Z
LAST-MODIFIED:20241227T214730Z
UID:2213-1736186400-1736193600@friendsofnewtownseniors.org
SUMMARY:Cookbook Club Registration
DESCRIPTION:This book club is a wonderful opportunity for those who love reading\, cooking\, and food to come together\, share their dishes\, and discuss the featured cookbook. January’s title is Mostly Plants by Lori\, Dana\, Corky and Tracy Pollan. \nTo join the event:  \n\nPlease register and pick up a copy of the book on the second floor of the library prior to the book club.\nChoose a recipe to cook and bring to the meeting. Email your choice to smerrill@chboothlibrary.org. \nGather on Monday\, January 6 for a potluck and book discussion!\n\nMonday\, January 6\n6 pm\nCyrus H Booth Library\, Meeting Room
URL:https://friendsofnewtownseniors.org/event/cookbook-club-registration/
LOCATION:C. H. Booth Library\, 25 Main Street\, Newtown\, CT\, 06470\, United States
CATEGORIES:Community,Educational
END:VEVENT
BEGIN:VEVENT
DTSTART;TZID=America/New_York:20241117T140000
DTEND;TZID=America/New_York:20241117T160000
DTSTAMP:20260422T225549
CREATED:20241106T223741Z
LAST-MODIFIED:20241106T223741Z
UID:2142-1731852000-1731859200@friendsofnewtownseniors.org
SUMMARY:"Rosie the Riveter" Presentation
DESCRIPTION:“Rosie the Riveter” became an iconic symbol of working women during World War II. What was it really like for them? Connecticut Museum Educator\, Mya Concepcion\, will lead us through a multimedia presentation to help us learn the answer. We will look at propaganda posters\, art\, music\, photos\, and hear real-life accounts of Connecticut women who worked for victory during the war. \nSunday\, November 17\n2 pm\nC.H. Booth Library.
URL:https://friendsofnewtownseniors.org/event/rosie-the-riveter-presentation/
LOCATION:C. H. Booth Library\, 25 Main Street\, Newtown\, CT\, 06470\, United States
CATEGORIES:Educational,Presentations and Forums
END:VEVENT
BEGIN:VEVENT
DTSTART;TZID=America/New_York:20241112T190000
DTEND;TZID=America/New_York:20241112T203000
DTSTAMP:20260422T225549
CREATED:20241106T223532Z
LAST-MODIFIED:20241106T223532Z
UID:2140-1731438000-1731443400@friendsofnewtownseniors.org
SUMMARY:History of the Danbury Fair Zoom Meeting
DESCRIPTION:The Danbury Fair was an annual CT extravaganza that began in 1869 and captivated people from all corners of the region for over a century. Sadly\, the fair came to a close and now the Danbury Fair Mall stands in its place. Join John Cilio to take a trip down memory Lane\, reminiscing about the fun and tradition that was celebrated for decades.  \nTuesday\, November 12\n7 – 8:30 pm via Zoom.  \nContact: Kate Sasanoff\n203-426-4533\nKsasanoff@chboothlibrary.org\nLocation: Virtual Meeting Space 1
URL:https://friendsofnewtownseniors.org/event/history-of-the-danbury-fair-zoom-meeting/
LOCATION:CT
CATEGORIES:Community,Educational,Presentations and Forums
END:VEVENT
BEGIN:VEVENT
DTSTART;TZID=America/New_York:20241110T120000
DTEND;TZID=America/New_York:20241110T170000
DTSTAMP:20260422T225549
CREATED:20241016T204359Z
LAST-MODIFIED:20241016T204620Z
UID:2098-1731240000-1731258000@friendsofnewtownseniors.org
SUMMARY:November Open House and Chocolate Making Demonstration
DESCRIPTION:Pewter Pot Fine Spiced Chocolates will be demonstrating the life of an 18th century chocolatier. Chocolates will also be available for sale. \nNewtown Historical Society\nSunday\, November 10\, at 12 pm\nMatthew Curtiss House\n44 Main Street \nEvent is free\, however\, donations are welcomed and appreciated.  For more information\, visit Newtown Historical Society
URL:https://friendsofnewtownseniors.org/event/november-open-house-and-chocolate-making-demonstration/
LOCATION:Matthew Curtiss House\, 44 Main Street\, Newtown\, CT\, 06470
CATEGORIES:Community,Educational,Presentations and Forums
ORGANIZER;CN="Newtown Historical Society":MAILTO:info@newtownhistory.org
END:VEVENT
BEGIN:VEVENT
DTSTART;TZID=America/New_York:20241020T140000
DTEND;TZID=America/New_York:20241020T163000
DTSTAMP:20260422T225549
CREATED:20241016T203824Z
LAST-MODIFIED:20241016T203929Z
UID:2094-1729432800-1729441800@friendsofnewtownseniors.org
SUMMARY:"Katharine Hepburn: From Hartford to Hollywood"
DESCRIPTION:Newtown Historical Society presents by Christine Rewinski from the CT Historical Society. Born and raised in CT\, Hepburn had a decades long\, ground breaking career in stage\, film and TV. Learn the role her life-long ties to CT played in how Hepburn became an icon. \nEvent is free\, however\, donations are welcomed and appreciated. \nFor more information about the Historical Society and upcoming events\, please click here. \nSunday\, October 20\n2 pm\nC.H. Booth Library\,
URL:https://friendsofnewtownseniors.org/event/katharine-hepburn-from-hartford-to-hollywood/
LOCATION:C. H. Booth Library\, 25 Main Street\, Newtown\, CT\, 06470\, United States
CATEGORIES:Community,Educational,Presentations and Forums
ORGANIZER;CN="Newtown Historical Society":MAILTO:info@newtownhistory.org
END:VEVENT
BEGIN:VEVENT
DTSTART;TZID=America/New_York:20240907T090000
DTEND;TZID=America/New_York:20240907T120000
DTSTAMP:20260422T225549
CREATED:20240823T000422Z
LAST-MODIFIED:20240823T000422Z
UID:2030-1725699600-1725710400@friendsofnewtownseniors.org
SUMMARY:Protect Our Pollinators Plant Sale
DESCRIPTION:Fall Native Plant Sale Fundraiser – Saturday\, September 7\, from 9 am – 12 pm\, rain or shine at the C.H. Booth Library\, 25 Main Street\, Newtown. Protect Our Pollinators (POP) is a Newtown-based nonprofit organization devoted to the conservation of pollinators and their habitats. Sale includes a variety of perennial plants and grasses\, Button Bush and more. All plants were winter sown from locally sourced seeds\, potted with care by members of POP.
URL:https://friendsofnewtownseniors.org/event/protect-our-pollinators-plant-sale/
LOCATION:C. H. Booth Library\, 25 Main Street\, Newtown\, CT\, 06470\, United States
CATEGORIES:Community,Educational
END:VEVENT
BEGIN:VEVENT
DTSTART;TZID=America/New_York:20240815T080000
DTEND;TZID=America/New_York:20240905T170000
DTSTAMP:20260422T225549
CREATED:20240807T150219Z
LAST-MODIFIED:20240815T204528Z
UID:2006-1723708800-1725555600@friendsofnewtownseniors.org
SUMMARY:2024 Nuvance Community Health Survey
DESCRIPTION:Nuvance Health is conducting its 2024 Community Health Survey. It is now open for all adult residents to complete and we hope you will be willing to provide them with your input. Your feedback regarding health issues and ideas for improvement are critical to helping Nuvance understand and address the health needs in our community. \nPlease consider taking the survey and sharing the link with your friends\, family members\, and neighbors. It should only take 10 minutes to complete. Individual responses are anonymous and confidential. Survey results and other community information will be used to develop health programs in our area.\nPlease click here to access the survey.
URL:https://friendsofnewtownseniors.org/event/2024-community-health-survey/
LOCATION:CT
CATEGORIES:Community,Educational,Volunteer
END:VEVENT
BEGIN:VEVENT
DTSTART;TZID=America/New_York:20240723T153000
DTEND;TZID=America/New_York:20240723T170000
DTSTAMP:20260422T225549
CREATED:20240621T130833Z
LAST-MODIFIED:20240621T130833Z
UID:1898-1721748600-1721754000@friendsofnewtownseniors.org
SUMMARY:FONS Roundtable
DESCRIPTION:Join the discussion of senior life in Newtown. All are welcome to attend. For more information\, please contact Ned Simpson at neds2124@gmail.com. \nTuesday\, July 23\n3:30 pm at the Senior Center
URL:https://friendsofnewtownseniors.org/event/fons-roundtable-2/
LOCATION:Newtown Senior Center\, 8 Simpson\, Newtown\, CT\, 06470\, United States
CATEGORIES:Community,Educational,Presentations and Forums
ORGANIZER;CN="Friends of Newtown Seniors Inc.":MAILTO:info@friendsofnewtownseniors.org
END:VEVENT
BEGIN:VEVENT
DTSTART;TZID=America/New_York:20240710T100000
DTEND;TZID=America/New_York:20240710T140000
DTSTAMP:20260422T225549
CREATED:20240621T131431Z
LAST-MODIFIED:20240621T131431Z
UID:1904-1720605600-1720620000@friendsofnewtownseniors.org
SUMMARY:Senior Health & Resource Expo
DESCRIPTION:This event is free and will feature over 40 vendors offering resources to seniors\, food\, music\, and raffle prizes. \nWednesday\, July 10\, from 10 am – 2 pm  \nWestern Connecticut Area Agency on Aging (WCAAA)\n84 Progress Lane\, 2nd Floor\nWaterbury\, CT 06705.
URL:https://friendsofnewtownseniors.org/event/senior-health-resource-expo/
LOCATION:CT
CATEGORIES:Community,Educational,Presentations and Forums
END:VEVENT
BEGIN:VEVENT
DTSTART;TZID=America/New_York:20240528T153000
DTEND;TZID=America/New_York:20240528T170000
DTSTAMP:20260422T225549
CREATED:20240514T022825Z
LAST-MODIFIED:20240528T115837Z
UID:1856-1716910200-1716915600@friendsofnewtownseniors.org
SUMMARY:FONS Roundtable CANCELLED
DESCRIPTION:The FONS Roundtable scheduled for Tuesday\, May 28\, at 3:30 pm at the Senior Center has been cancelled. The next FONS Roundtable will be held on Tuesday\, June 25.  \nTuesday\, May 28\, at 3:30 pm at the Senior Center. Join the discussion of senior life in Newtown. All are welcome to join these discussions\, which will be held on the fourth Tuesday of each month. \nFor more information\, please contact Ned Simpson at neds2124@gmail.com.
URL:https://friendsofnewtownseniors.org/event/fons-roundtable/
LOCATION:Newtown Senior Center\, 8 Simpson\, Newtown\, CT\, 06470\, United States
CATEGORIES:Community,Educational,Presentations and Forums
ORGANIZER;CN="Friends of Newtown Seniors Inc.":MAILTO:info@friendsofnewtownseniors.org
END:VEVENT
END:VCALENDAR