BEGIN:VCALENDAR
VERSION:2.0
PRODID:-//Friends of Newtown Seniors - ECPv6.15.20//NONSGML v1.0//EN
CALSCALE:GREGORIAN
METHOD:PUBLISH
X-WR-CALNAME:Friends of Newtown Seniors
X-ORIGINAL-URL:https://friendsofnewtownseniors.org
X-WR-CALDESC:Events for Friends of Newtown Seniors
REFRESH-INTERVAL;VALUE=DURATION:PT1H
X-Robots-Tag:noindex
X-PUBLISHED-TTL:PT1H
BEGIN:VTIMEZONE
TZID:America/New_York
BEGIN:DAYLIGHT
TZOFFSETFROM:-0500
TZOFFSETTO:-0400
TZNAME:EDT
DTSTART:20240310T070000
END:DAYLIGHT
BEGIN:STANDARD
TZOFFSETFROM:-0400
TZOFFSETTO:-0500
TZNAME:EST
DTSTART:20241103T060000
END:STANDARD
BEGIN:DAYLIGHT
TZOFFSETFROM:-0500
TZOFFSETTO:-0400
TZNAME:EDT
DTSTART:20250309T070000
END:DAYLIGHT
BEGIN:STANDARD
TZOFFSETFROM:-0400
TZOFFSETTO:-0500
TZNAME:EST
DTSTART:20251102T060000
END:STANDARD
BEGIN:DAYLIGHT
TZOFFSETFROM:-0500
TZOFFSETTO:-0400
TZNAME:EDT
DTSTART:20260308T070000
END:DAYLIGHT
BEGIN:STANDARD
TZOFFSETFROM:-0400
TZOFFSETTO:-0500
TZNAME:EST
DTSTART:20261101T060000
END:STANDARD
END:VTIMEZONE
BEGIN:VEVENT
DTSTART;TZID=America/New_York:20250722T153000
DTEND;TZID=America/New_York:20250722T170000
DTSTAMP:20260423T114306
CREATED:20250718T162907Z
LAST-MODIFIED:20250724T142810Z
UID:2762-1753198200-1753203600@friendsofnewtownseniors.org
SUMMARY:FONS July Roundtable
DESCRIPTION:Join the discussion of senior life in Newtown. All are welcome to attend. This month’s speaker will be Fred Hurley\, Director\, Public Works. The Public Works Department encompasses Highways\, the Transfer Station (former landfill) and Recycling Center\, Town Garage\, Public Building Maintenance\, Car Pool\, Sanitary Sewer and Engineering. For more information\, please contact Ned Simpson at neds2124@gmail.com. Highlights from all Roundtable meetings are available on the FONS website. Please click here to access. \nTuesday\, July 22\n3:30 pm at the Senior Center
URL:https://friendsofnewtownseniors.org/event/fons-july-roundtable/
LOCATION:Newtown Senior Center\, 8 Simpson\, Newtown\, CT\, 06470\, United States
CATEGORIES:Educational,Monthly Roundtable
ORGANIZER;CN="Friends of Newtown Seniors Inc.":MAILTO:info@friendsofnewtownseniors.org
END:VEVENT
END:VCALENDAR