BEGIN:VCALENDAR
VERSION:2.0
PRODID:-//Friends of Newtown Seniors - ECPv6.15.20//NONSGML v1.0//EN
CALSCALE:GREGORIAN
METHOD:PUBLISH
X-WR-CALNAME:Friends of Newtown Seniors
X-ORIGINAL-URL:https://friendsofnewtownseniors.org
X-WR-CALDESC:Events for Friends of Newtown Seniors
REFRESH-INTERVAL;VALUE=DURATION:PT1H
X-Robots-Tag:noindex
X-PUBLISHED-TTL:PT1H
BEGIN:VTIMEZONE
TZID:America/New_York
BEGIN:DAYLIGHT
TZOFFSETFROM:-0500
TZOFFSETTO:-0400
TZNAME:EDT
DTSTART:20240310T070000
END:DAYLIGHT
BEGIN:STANDARD
TZOFFSETFROM:-0400
TZOFFSETTO:-0500
TZNAME:EST
DTSTART:20241103T060000
END:STANDARD
BEGIN:DAYLIGHT
TZOFFSETFROM:-0500
TZOFFSETTO:-0400
TZNAME:EDT
DTSTART:20250309T070000
END:DAYLIGHT
BEGIN:STANDARD
TZOFFSETFROM:-0400
TZOFFSETTO:-0500
TZNAME:EST
DTSTART:20251102T060000
END:STANDARD
BEGIN:DAYLIGHT
TZOFFSETFROM:-0500
TZOFFSETTO:-0400
TZNAME:EDT
DTSTART:20260308T070000
END:DAYLIGHT
BEGIN:STANDARD
TZOFFSETFROM:-0400
TZOFFSETTO:-0500
TZNAME:EST
DTSTART:20261101T060000
END:STANDARD
END:VTIMEZONE
BEGIN:VEVENT
DTSTART;TZID=America/New_York:20250401T173000
DTEND;TZID=America/New_York:20250401T190000
DTSTAMP:20260423T161218
CREATED:20250317T170111Z
LAST-MODIFIED:20250317T170438Z
UID:2423-1743528600-1743534000@friendsofnewtownseniors.org
SUMMARY:TIMELESS NEWTOWN: Attitudes toward ageing and why they matter
DESCRIPTION:Our panel represents a cross section of age groups and backgrounds and promises to be a lively and informative session which we hope will stimulate conversations concerning the universal process of aging and how positive attitudes can stimulate a paradigm shift in the way all of us at any age view aging. \nModerator:\nPeter Schwarz\, Vice President of FONS \nOur Panel: \n\nJohn Boccuzzi – Retired educator with 41 years of experience and current President of FONS\nDr. Brianna Garrison – Researcher and Professor of Gerontological Social Worker at Southern CT State University\nMarissa Greene – Master’s Student of Gerontological Social Work at Southern CT State University\nAnn (Nancy) Rhodes – APRN-BC\, Author and consultant on ageing and caregiving\n\nFree Timeless Newtown Event REGISTER HERE \nNewtown Senior Center\n8 Simpson Street\nNewtown\, CT 06470\nTuesday\, April 1\, 5:30-7pm
URL:https://friendsofnewtownseniors.org/event/attitudes-toward-ageing-and-why-they-matter/
LOCATION:Newtown Senior Center\, 8 Simpson\, Newtown\, CT\, 06470\, United States
CATEGORIES:Community,Educational
END:VEVENT
BEGIN:VEVENT
DTSTART;TZID=America/New_York:20250415T173000
DTEND;TZID=America/New_York:20250415T190000
DTSTAMP:20260423T161218
CREATED:20250406T204904Z
LAST-MODIFIED:20250412T194402Z
UID:2558-1744738200-1744743600@friendsofnewtownseniors.org
SUMMARY:A Holistic Perspective on Health
DESCRIPTION:Our panel is comprised of health care professionals\, a researcher/professor and a student studying health care. The panel will discuss the emotional\, physical\, mental\, and social implications of aging and discuss why everyone of every age should consider these forces and the role they play in our health. \nPanel includes: \n\nAlexa Griffin – LCSW\, Newtown Human Services\nDr. Brianna Garrison – Researcher and Professor of Gerontological Social Work at Southern CT State University\nMarissa Greene – Master’s Student in Gerontological Social Work at Southern CT State University\nDr. Peter Licht – MD\, Primary Care and Internal Medicine\nSusan Licht – PA-C\, Physician Associate\, Primary Care and Internal Medicine.\n\nModerator is Peter Schwarz\, Vice President of FONS. \nPlease register for this event at:\nhttps://www.zeffy.com/en-US/ticketing/a-holistic-perspective-on-health-and-aging \nTimeless Newtown Panel Discussion – “A Holistic Perspective on Health and Aging” \nTuesday\, April 15\, from 5:30 – 7 pm\nNewtown Community Center.
URL:https://friendsofnewtownseniors.org/event/timeless-newtown-panel-discussion-a-holistic-perspective-on-health-and-aging/
LOCATION:Newtown Community Center\, 8 Simpson Street\, Newtown\, CT\, 06470
CATEGORIES:Community,Educational,Timeless Newtown
END:VEVENT
BEGIN:VEVENT
DTSTART;TZID=America/New_York:20250424T100000
DTEND;TZID=America/New_York:20250424T113000
DTSTAMP:20260423T161218
CREATED:20250416T210722Z
LAST-MODIFIED:20250416T210722Z
UID:2625-1745488800-1745494200@friendsofnewtownseniors.org
SUMMARY:Essentials for Safe Hiking Presentation
DESCRIPTION:Linda Dunn of Newtown Hikers\, presenter\, will discuss how to prepare for a hike\, equipment\, what to do in an emergency\, and answer your questions after her talk. This event is sponsored by Newtown Parks & Rec and Newtown Hikers; Partners: Nunnawauk Meadows and Senior Center\, and is a component of the Timeless Newtown: Embracing Every Generation initiative. Nunnawauk residents sign up at Nunnawauk Meadows Office; all other community members sign up by emailing Andrea Zimmermann at apzwriter@yahoo.com. Registration is required. \nThursday\, April 24\, at 10 am\nNunnawauk Meadows Community Room\n3 Nunnawauk Road\, Newtown\n(due to limited parking\, a bus at the Senior Center will shuttle attendees to Nunnawauk starting at 9:30).
URL:https://friendsofnewtownseniors.org/event/essentials-for-safe-hiking-presentation/
LOCATION:Nunnawauk Meadows\, 3 Nunnawauk Road\, Newtown\, CT\, 06470
CATEGORIES:Community,Educational
END:VEVENT
BEGIN:VEVENT
DTSTART;TZID=America/New_York:20250424T150000
DTEND;TZID=America/New_York:20250424T170000
DTSTAMP:20260423T161218
CREATED:20250416T210410Z
LAST-MODIFIED:20250416T210410Z
UID:2623-1745506800-1745514000@friendsofnewtownseniors.org
SUMMARY:Timeless Newtown: "Factors that Impact the Aging Process"
DESCRIPTION:Timeless Newtown Lecture & Discussion \nJoin Gerontologist Dr. Joseph DeMayo for an insightful presentation on the key factors that influence aging. Dr. DeMayo will explore the importance of human connection and involvement in maintaining overall well-being\, as well as the role of your health care provider as a partner in healthy aging. A Q&A session will follow\, offering attendees the opportunity to ask questions and engage in discussion. \nThis program is sponsored by FONS and the C.H. Booth Library and is a component of the Timeless Newtown: Embracing Every Generation initiative. Please register for this event at chbooth.org.com or call 203-426-4533. \nThursday\, April 24\, at 3 pm\nC.H. Booth Library Community Room\\n25 Main Street\, Newtown
URL:https://friendsofnewtownseniors.org/event/timeless-newtown-factors-that-impact-the-aging-process/
LOCATION:C. H. Booth Library\, 25 Main Street\, Newtown\, CT\, 06470\, United States
CATEGORIES:C. H. Booth Library,Community,Educational,Presentations and Forums,Timeless Newtown
ORGANIZER;CN="Friends of Newtown Seniors Inc.":MAILTO:info@friendsofnewtownseniors.org
END:VEVENT
BEGIN:VEVENT
DTSTART;TZID=America/New_York:20250426T100000
DTEND;TZID=America/New_York:20250426T150000
DTSTAMP:20260423T161218
CREATED:20250406T204049Z
LAST-MODIFIED:20250406T204049Z
UID:2563-1745661600-1745679600@friendsofnewtownseniors.org
SUMMARY:Newtown Earth Day
DESCRIPTION:Food\, music\, crafts\, vendors\, demonstrations\, fun! Newtown’s Earth Day is a full day of fun for the whole family – highlighting Newtown’s abundant natural resources\, helping our community go green\, and supporting a green college scholarship for a deserving Newtown High School Student.  \nVisit www.NewtownEarthDay.org for more information. \nSaturday\, April 26\, from 10 am – 3 pm\nNewtown Middle School\n11 Queen Street
URL:https://friendsofnewtownseniors.org/event/newtown-earth-day/
LOCATION:Newtown Middle School\, 11 Queen Street\, Newtown\, CT\, 06470
CATEGORIES:Community,Educational,Food,Fun & Games
END:VEVENT
END:VCALENDAR