BEGIN:VCALENDAR
VERSION:2.0
PRODID:-//Friends of Newtown Seniors - ECPv6.15.20//NONSGML v1.0//EN
CALSCALE:GREGORIAN
METHOD:PUBLISH
X-ORIGINAL-URL:https://friendsofnewtownseniors.org
X-WR-CALDESC:Events for Friends of Newtown Seniors
REFRESH-INTERVAL;VALUE=DURATION:PT1H
X-Robots-Tag:noindex
X-PUBLISHED-TTL:PT1H
BEGIN:VTIMEZONE
TZID:America/New_York
BEGIN:DAYLIGHT
TZOFFSETFROM:-0500
TZOFFSETTO:-0400
TZNAME:EDT
DTSTART:20230312T070000
END:DAYLIGHT
BEGIN:STANDARD
TZOFFSETFROM:-0400
TZOFFSETTO:-0500
TZNAME:EST
DTSTART:20231105T060000
END:STANDARD
BEGIN:DAYLIGHT
TZOFFSETFROM:-0500
TZOFFSETTO:-0400
TZNAME:EDT
DTSTART:20240310T070000
END:DAYLIGHT
BEGIN:STANDARD
TZOFFSETFROM:-0400
TZOFFSETTO:-0500
TZNAME:EST
DTSTART:20241103T060000
END:STANDARD
BEGIN:DAYLIGHT
TZOFFSETFROM:-0500
TZOFFSETTO:-0400
TZNAME:EDT
DTSTART:20250309T070000
END:DAYLIGHT
BEGIN:STANDARD
TZOFFSETFROM:-0400
TZOFFSETTO:-0500
TZNAME:EST
DTSTART:20251102T060000
END:STANDARD
BEGIN:DAYLIGHT
TZOFFSETFROM:-0500
TZOFFSETTO:-0400
TZNAME:EDT
DTSTART:20260308T070000
END:DAYLIGHT
BEGIN:STANDARD
TZOFFSETFROM:-0400
TZOFFSETTO:-0500
TZNAME:EST
DTSTART:20261101T060000
END:STANDARD
BEGIN:DAYLIGHT
TZOFFSETFROM:-0500
TZOFFSETTO:-0400
TZNAME:EDT
DTSTART:20270314T070000
END:DAYLIGHT
BEGIN:STANDARD
TZOFFSETFROM:-0400
TZOFFSETTO:-0500
TZNAME:EST
DTSTART:20271107T060000
END:STANDARD
END:VTIMEZONE
BEGIN:VEVENT
DTSTART;TZID=America/New_York:20260421T083000
DTEND;TZID=America/New_York:20260421T170000
DTSTAMP:20260422T223012
CREATED:20260408T215001Z
LAST-MODIFIED:20260408T215001Z
UID:3098-1776760200-1776790800@friendsofnewtownseniors.org
SUMMARY:Red Cross Blood Drive
DESCRIPTION:For an appointment\, please visit https://www.redcrossblood.org\, call 1-800-RED CROSS (1-800-733-2767)\, or scan the poster QR code. Enter 5320. We’ll brighten your day with a $10 Amazon Gift Card by email! \nTuesday\, April 21\, 2026 \nNewtown Congregational Church\n14 West Street\nNewtown \n8:30 am – 5 pm
URL:https://friendsofnewtownseniors.org/event/red-cross-blood-drive-4/
LOCATION:Newtown Congregational Church\, 14 West Street\, Newtown\, CT\, 06470
CATEGORIES:Blood Drives,Community
ATTACH;FMTTYPE=image/jpeg:https://friendsofnewtownseniors.org/wp-content/uploads/2024/06/red-cross-blood_drive.jpeg
END:VEVENT
BEGIN:VEVENT
DTSTART;TZID=America/New_York:20251107T083000
DTEND;TZID=America/New_York:20251107T170000
DTSTAMP:20260422T223012
CREATED:20251028T002015Z
LAST-MODIFIED:20251028T002015Z
UID:2959-1762504200-1762534800@friendsofnewtownseniors.org
SUMMARY:Red Cross Blood Drive
DESCRIPTION:For an appointment\, please visit https://www.redcrossblood.org\, call 1-800-RED CROSS (1-800-733-2767)\, enter 5320. Come to give blood by Nov.16 and you’ll automatically be entered for a chance to win one of three $5\,000 gift cards! Plus\, all those who come to donate blood during that same time frame will receive a $10 e-gift card to a merchant of their choice. \n  \nFriday\, November 7\, 2025\, 8:30 AM – 5:00 PM\nNewtown Congregational Church\n14 West Street\nNewtown\, CT 06470
URL:https://friendsofnewtownseniors.org/event/red-cross-blood-drive-3/
LOCATION:Newtown Congregational Church\, 14 West Street\, Newtown\, CT\, 06470
CATEGORIES:Blood Drives
END:VEVENT
BEGIN:VEVENT
DTSTART;TZID=America/New_York:20251023T083000
DTEND;TZID=America/New_York:20251023T170000
DTSTAMP:20260422T223012
CREATED:20250930T220854Z
LAST-MODIFIED:20250930T220854Z
UID:2908-1761208200-1761238800@friendsofnewtownseniors.org
SUMMARY:Red Cross Blood Drive
DESCRIPTION:For an appointment\, please visit https://www.redcrossblood.org or call 1-800-RED CROSS (1-800-733-2767). Enter 5320. When you pop in to give blood\, platelets\, or AB Elite plasma you’ll receive a $10 e-merchant card to the merchant of your choice and a chance to win $5000! \nThursday\, October 23\, 2025\n8:30 AM – 5:00 PM \nNewtown Congregational Church\n14 West St\nNewtown\, CT 06470
URL:https://friendsofnewtownseniors.org/event/red-cross-blood-drive-2/
LOCATION:Newtown Congregational Church\, 14 West Street\, Newtown\, CT\, 06470
CATEGORIES:Blood Drives
ATTACH;FMTTYPE=image/jpeg:https://friendsofnewtownseniors.org/wp-content/uploads/2024/06/red-cross-blood_drive.jpeg
END:VEVENT
BEGIN:VEVENT
DTSTART;TZID=America/New_York:20250624T080000
DTEND;TZID=America/New_York:20250624T170000
DTSTAMP:20260422T223012
CREATED:20250516T185959Z
LAST-MODIFIED:20250608T225431Z
UID:2667-1750752000-1750784400@friendsofnewtownseniors.org
SUMMARY:Red Cross Blood Drive
DESCRIPTION:For an appointment\, please visit https://www.redcrossblood.org\, call 1-800-RED CROSS (1-800-733-2767). You’ll make a difference and donors who give blood in June will receive a $15 gift card. Cosponsored by the Newtown Lions Club and Women in Newtown.  \nJune 24\, 2025\n8 am – 5 pm\nNewtown Congregational Church\n14 West St\, Newtown\, CT 06470
URL:https://friendsofnewtownseniors.org/event/red-cross-blood-drive/
LOCATION:Newtown Congregational Church\, 14 West Street\, Newtown\, CT\, 06470
CATEGORIES:Blood Drives
END:VEVENT
BEGIN:VEVENT
DTSTART;TZID=America/New_York:20250422T083000
DTEND;TZID=America/New_York:20250422T180000
DTSTAMP:20260422T223012
CREATED:20241030T202533Z
LAST-MODIFIED:20250406T203803Z
UID:2128-1745310600-1745344800@friendsofnewtownseniors.org
SUMMARY:Red Cross Blood Drive
DESCRIPTION:Save lives: Give Blood. Donate Blood NOW. Thank YOU! You’ll make a difference. \nFor an appointment\, please visit https://www.redcrossblood.org\, call 1-800-RED CROSS (1-800-733-2767)\, or scan the poster QR code with a smartphone. Enter 5320. You’ll get an exclusive American Red Cross T-shirt. You’ll make a difference! \n] \nRed Cross Blood Drive\nTuesday\, April 22\, 2025\n8:30 AM – 5:00 PM\nNewtown Congregational Church\n14 West St\, Newtown\, CT 06470
URL:https://friendsofnewtownseniors.org/event/red-cross-blood-drive-23/
LOCATION:Newtown Congregational Church\, 14 West Street\, Newtown\, CT\, 06470
CATEGORIES:Blood Drives,Community
ATTACH;FMTTYPE=image/jpeg:https://friendsofnewtownseniors.org/wp-content/uploads/2024/06/red-cross-blood_drive.jpeg
END:VEVENT
BEGIN:VEVENT
DTSTART;TZID=America/New_York:20241024T083000
DTEND;TZID=America/New_York:20241024T163000
DTSTAMP:20260422T223012
CREATED:20241016T205321Z
LAST-MODIFIED:20241016T205439Z
UID:2102-1729758600-1729787400@friendsofnewtownseniors.org
SUMMARY:Red Cross Blood Drive
DESCRIPTION:Thursday\, October 24: 8:30 am- 4:30 pm\nNewtown Congregational Church14 West St\, Newtown\, CT 06470 \nSave lives: Give Blood. Make an appointment to donate blood via https://www.redcrossblood.org/ (enter 5320) or by calling 1-800-733-2767.\nSave lives on October 24 and get a $10 Amazon gift card via email!
URL:https://friendsofnewtownseniors.org/event/red-cross-blood-drive-22/
LOCATION:Newtown Congregational Church\, 14 West Street\, Newtown\, CT\, 06470
CATEGORIES:Blood Drives
END:VEVENT
BEGIN:VEVENT
DTSTART;TZID=America/New_York:20240913T083000
DTEND;TZID=America/New_York:20240913T173000
DTSTAMP:20260422T223012
CREATED:20240606T190425Z
LAST-MODIFIED:20240823T000632Z
UID:1876-1726216200-1726248600@friendsofnewtownseniors.org
SUMMARY:Red Cross Blood Drive
DESCRIPTION:Sign up to help needy patients. \nSchedule a donation via redcrossblood.org (enter 5320) or call 1-800-RED CROSS (1-800-733-2767). A single donation can help up to 3 patients. Make a difference – Save a Life! \nFriday\, September 13: 8:30 am- 5:30 pm\nNewtown Congregational Church\n14 West St\, Newtown
URL:https://friendsofnewtownseniors.org/event/red-cross-blood-drive-21/
LOCATION:Newtown Congregational Church\, 14 West Street\, Newtown\, CT\, 06470
CATEGORIES:Blood Drives,Community
ATTACH;FMTTYPE=image/jpeg:https://friendsofnewtownseniors.org/wp-content/uploads/2024/06/red-cross-blood_drive.jpeg
END:VEVENT
BEGIN:VEVENT
DTSTART;TZID=America/New_York:20240528T130000
DTEND;TZID=America/New_York:20240528T180000
DTSTAMP:20260422T223012
CREATED:20240505T223914Z
LAST-MODIFIED:20240506T145936Z
UID:1852-1716901200-1716919200@friendsofnewtownseniors.org
SUMMARY:Red Cross Blood Drive
DESCRIPTION:Sign up to help needy patients: Schedule a donation today via redcrossblood.org (enter 5320) or call 1-800-RED CROSS (1-800-733-2767). A single donation can help up to 3 patients. You’ll be glad you can save the day! \nNewtown Congregational Church\n14 West Street\nNewtown \nTuesday\, May 28\n1 – 6 pm
URL:https://friendsofnewtownseniors.org/event/red-cross-blood-drive-20/
LOCATION:Newtown Congregational Church\, 14 West Street\, Newtown\, CT\, 06470
CATEGORIES:Blood Drives
END:VEVENT
END:VCALENDAR